BEGIN:VCALENDAR
VERSION:2.0
PRODID:-//wp-events-plugin.com//7.2.3.1//EN
TZID:Europe/Warsaw
X-WR-TIMEZONE:Europe/Warsaw
BEGIN:VEVENT
UID:13845@night4u.pl
DTSTART;TZID=Europe/Warsaw:20190504T190000
DTEND;TZID=Europe/Warsaw:20190505T050000
DTSTAMP:20190425T215735Z
URL:https://night4u.pl/wydarzenia/niekonczacy-sie-weekend-zapylamy-do-rana
 /
SUMMARY:Niekończący się weekend. Zapylamy do rana
DESCRIPTION:Jeżeli w piątek  "zachorujemy" do wtorku\, to przed nami 8 dn
 i weekendu. Pszczoły na tarasie już zaczynają działać\, podobnie jak 
 nasi barmani. Before na dachu\, middle w środku\, after gdzie się uda. N
 ajlepsze drinki\, najlepszy widok\, najlepsza muzyka. Jednym słowem: #naj
 gorszyklubwmiescie \nRezerwacja stolików\, kanapek i krzesełek piekna@pi
 eknapszczola.pl\, ☎ 696 43 23 53.\n????????\nkarty klubowe i zaproszenia
  - za darmo\ncywile do 22.00 - za darmo\ncywile po 22 - za 15\nprzedostatn
 ia osoba wchodząca do klubu - open bar\nostatnia osoba wychodząca z klub
 u - close bar\ndzieci poniżej 25 - nie wchodzą\, bo jak to dzieci mają 
 niską odporność i mogą się na tarasie przeziębić. Chyba\, że zapł
 acą nam 250 zł\, wtedy ich zdrowie nas nie interesuje
ATTACH;FMTTYPE=image/jpeg:https://night4u.pl/wp-content/uploads/2019/04/34
 700_image_58571141_273847503367681_1844880584699019264_n.jpg
CATEGORIES:lubelskie
LOCATION:Piękna Pszczoła\, Plac Teatralny 1 (Budynek CSK)\, Lublin\, 20-0
 37\, Poland
GEO:51.246524;22.548666
X-APPLE-STRUCTURED-LOCATION;VALUE=URI;X-ADDRESS=Plac Teatralny 1 (Budynek C
 SK)\, Lublin\, 20-037\, Poland;X-APPLE-RADIUS=100;X-TITLE=Piękna Pszczoł
 a:geo:51.246524,22.548666
END:VEVENT
BEGIN:VTIMEZONE
TZID:Europe/Warsaw
X-LIC-LOCATION:Europe/Warsaw
BEGIN:DAYLIGHT
DTSTART:20190331T030000
TZOFFSETFROM:+0100
TZOFFSETTO:+0200
TZNAME:CEST
END:DAYLIGHT
END:VTIMEZONE
END:VCALENDAR