BEGIN:VCALENDAR
VERSION:2.0
PRODID:-//wp-events-plugin.com//7.2.3.1//EN
TZID:Europe/Warsaw
X-WR-TIMEZONE:Europe/Warsaw
BEGIN:VEVENT
UID:15258@night4u.pl
DTSTART;TZID=Europe/Warsaw:20190518T221300
DTEND;TZID=Europe/Warsaw:20190519T050000
DTSTAMP:20190509T093549Z
URL:https://night4u.pl/wydarzenia/night-at-the-museum-kocurr-johnny-w/
SUMMARY:Night at the Museum | Kocurr & Johnny W.
DESCRIPTION:18 maja odbędzie się Noc Muzeów. To doskonała okazja\, aby 
 ominąć kolejki do nich i pobawić się w klubie\, który mieści się w
 łaśnie w budynku Muzeum Etnograficznego! \n\nTej nocy dzięki specjalnie
  dobranej scenografii poczujecie się jak w prawdziwym muzeum! Muzycznie\,
  porcje solidnych klasyków w stylu oldies but goldies zmiksowanych z najn
 owszymi muzycznymi produkcjami zaserwują Dj Kocurr & Johnny W. \n\nStart 
 22:13\n\nWstęp 20 PLN \nLista fb do 00:13 free\nSelekcja\n\nPatronat Medi
 alny\nRadio ESKA \n\nREZERWACJE \n+48 732 538 638\ninfo@room13.pl\n_______
 _______________\n\nwww.room13.pl\nfb.com/room13club\ninstagram.com/room13c
 lub
ATTACH;FMTTYPE=image/jpeg:https://night4u.pl/wp-content/uploads/2019/05/37
 710_image_59641185_2459952877361755_5319411283513049088_o.jpg
CATEGORIES:mazowieckie
LOCATION:ROOM 13 Club\, ul. Mazowiecka 13\, Warsaw\, 00-052\, Poland
GEO:52.237999;21.012896
X-APPLE-STRUCTURED-LOCATION;VALUE=URI;X-ADDRESS=ul. Mazowiecka 13\, Warsaw\
 , 00-052\, Poland;X-APPLE-RADIUS=100;X-TITLE=ROOM 13 Club:geo:52.237999,21
 .012896
END:VEVENT
BEGIN:VTIMEZONE
TZID:Europe/Warsaw
X-LIC-LOCATION:Europe/Warsaw
BEGIN:DAYLIGHT
DTSTART:20190331T030000
TZOFFSETFROM:+0100
TZOFFSETTO:+0200
TZNAME:CEST
END:DAYLIGHT
END:VTIMEZONE
END:VCALENDAR