BEGIN:VCALENDAR
VERSION:2.0
PRODID:-//wp-events-plugin.com//7.2.3.1//EN
TZID:Europe/Warsaw
X-WR-TIMEZONE:Europe/Warsaw
BEGIN:VEVENT
UID:38079@night4u.pl
DTSTART;TZID=Europe/Warsaw:20191207T210000
DTEND;TZID=Europe/Warsaw:20191208T050000
DTSTAMP:20191207T230938Z
URL:https://night4u.pl/wydarzenia/night-in-the-city-dr-mroczek-07-12-19/
SUMMARY:Night In The City // dr Mroczek // 07.12.19
DESCRIPTION:Pierwsza sobota ostatniego miesiąca tego roku w UltraViolet - 
 Exclusive Club 🎉🥂\n\nJak co tydzień\, czekamy na Was od 21:00 by ce
 lebrować weekend przy najlepszych drinkach oraz muzyce\, o którą tym ra
 zem zadba nasz Rezydent - dr Mroczek 🔝🎶\n\nDo zobaczenia przy Sienki
 ewicza 33! ❤\n\n☎ Rezerwacje loży: 518 820 320\n(Codziennie godzinach
  12:00 - 21:00)\n\nPanie 21+ \nPanowie 23+\n\nKlub UltraViolet zastrzega s
 obie prawo do selekcji Gości.
ATTACH;FMTTYPE=image/jpeg:https://night4u.pl/wp-content/uploads/2019/12/10
 8809_image_78227060_2577223015658246_1845718605832912896_o.jpg
CATEGORIES:świętokrzyskie
LOCATION:UltraViolet - Exclusive Club\, ul. Sienkiewicza 33\, Kielce\, 25-0
 05\, Poland
GEO:50.87148;20.62637
X-APPLE-STRUCTURED-LOCATION;VALUE=URI;X-ADDRESS=ul. Sienkiewicza 33\, Kielc
 e\, 25-005\, Poland;X-APPLE-RADIUS=100;X-TITLE=UltraViolet - Exclusive Clu
 b:geo:50.87148,20.62637
END:VEVENT
BEGIN:VTIMEZONE
TZID:Europe/Warsaw
X-LIC-LOCATION:Europe/Warsaw
BEGIN:STANDARD
DTSTART:20191027T020000
TZOFFSETFROM:+0200
TZOFFSETTO:+0100
TZNAME:CET
END:STANDARD
END:VTIMEZONE
END:VCALENDAR