BEGIN:VCALENDAR
VERSION:2.0
PRODID:-//wp-events-plugin.com//7.2.3.1//EN
TZID:Europe/Warsaw
X-WR-TIMEZONE:Europe/Warsaw
BEGIN:VEVENT
UID:51776@night4u.pl
DTSTART;TZID=Europe/Warsaw:20241220T200000
DTEND;TZID=Europe/Warsaw:20241221T040000
DTSTAMP:20241217T213707Z
URL:https://night4u.pl/wydarzenia/no-limit-x-cream-greg-x-20-12-x-lista-fr
 ee-do-godz-11-p-m/
SUMMARY:NO LIMIT x Cream & Greg x 20.12 x Lista Free do godz. 11 P.M.
DESCRIPTION:NO LIMIT IN THE GRAND CLUB!\nJuż w ten piątek nasi Rezydenci 
 Cream &amp\; Dj Greg zabiorą Was w niezpomnianą podróż!\n\nA dla Pań!
 ? Weź udział w wydarzeniu i wejdź FREE do godziny 23:00 :)\n\n🕥 Star
 t: 22:00\n________________________\n💵 KUP BILET ONLINE!\nhttps://grandc
 lub.pl/rezerwacje/\n________________________\n🧧 Wejściówki:\nPanie - 
 20pln\nPanowie - 30pln\nFastpass - 35pln\n\nRezerwacja loży: 15:00 - 21:0
 0\n→ TEL | +48 790 815 389\n\nW klubie obowiązuje selekcja!\nDress code
 : SMART CASUAL\n________________________\n→ INSTA | grandclub_rzeszow\n
 → YOUTUBE | Grand Club\n→ MAIL | marketing@grandclub.pl\n→ WWW | gra
 ndclub.pl
ATTACH;FMTTYPE=image/jpeg:https://night4u.pl/wp-content/uploads/2024/12/NO
 -LIMIT-x-Cream-Greg-x-20.12-x-Lista-Free-do-godz.-11-P.M-scaled.jpg
CATEGORIES:podkarpackie
LOCATION:ul. Kościuszki 9\, 35-030 Rzeszów\, Poland\, ul. Kościuszki 9\,
  35-030 Rzeszów\, Poland\, 
X-APPLE-STRUCTURED-LOCATION;VALUE=URI;X-ADDRESS=ul. Kościuszki 9\, 35-030 
 Rzeszów\, Poland\, ;X-APPLE-RADIUS=100;X-TITLE=ul. Kościuszki 9\, 35-030
  Rzeszów\, Poland:geo:0,0
END:VEVENT
BEGIN:VTIMEZONE
TZID:Europe/Warsaw
X-LIC-LOCATION:Europe/Warsaw
BEGIN:STANDARD
DTSTART:20241027T020000
TZOFFSETFROM:+0200
TZOFFSETTO:+0100
TZNAME:CET
END:STANDARD
END:VTIMEZONE
END:VCALENDAR