BEGIN:VCALENDAR
VERSION:2.0
PRODID:-//wp-events-plugin.com//7.2.3.1//EN
TZID:Europe/Warsaw
X-WR-TIMEZONE:Europe/Warsaw
BEGIN:VEVENT
UID:35012@night4u.pl
DTSTART;TZID=Europe/Warsaw:20191108T220000
DTEND;TZID=Europe/Warsaw:20191109T050000
DTSTAMP:20191107T215333Z
URL:https://night4u.pl/wydarzenia/no-signal-party-piatek-cooltura-chmielna
 -101-3/
SUMMARY:No signal party! / Piątek / Cooltura Chmielna 101
DESCRIPTION:Po co kotu telefon?\n*BA DUM TSSS*\nŻeby miau.\n\n📆 PIĄTEK
  II 08.11.2019\n🕺🏼 Dj Define\n🎧 HOUSE / ELECTRONIC / REMIX\n\nW n
 ajbliższy piątek włącz tryb samolotowy i rozkoszuj się chwilą. Ze wz
 ględów bezpieczeństwa WiFi w lokalu zostaje wyłączone. Prosimy o zawi
 eranie nowych znajomości przy barze. Koniec komunikatu.\n\n⎺⎺⎺⎺
 ⎺⎺⎺⎺⎺⎺⎺⎺⎺⎺⎺⎺⎺⎺⎺⎺⎺⎺⎺⎺⎺⎺⎺⎺
 ⎺⎺⎺⎺⎺⎺⎺\n‣ WSTĘP TYLKO DLA OSÓB PEŁNOLETNICH.\n‣ SELE
 KCJA - ORGANIZATOR MOŻE ODMÓWIĆ WEJŚCIA DO KLUBU.
ATTACH;FMTTYPE=image/jpeg:https://night4u.pl/wp-content/uploads/2019/11/91
 918_image_74423789_1418000328378279_6775434819246489600_o.jpg
CATEGORIES:pomorskie
LOCATION:Cooltura Chmielna 101\, Chmielna 101\, Gdansk\, 80-748\, Poland
GEO:54.34722;18.65729
X-APPLE-STRUCTURED-LOCATION;VALUE=URI;X-ADDRESS=Chmielna 101\, Gdansk\, 80-
 748\, Poland;X-APPLE-RADIUS=100;X-TITLE=Cooltura Chmielna 101:geo:54.34722
 ,18.65729
END:VEVENT
BEGIN:VTIMEZONE
TZID:Europe/Warsaw
X-LIC-LOCATION:Europe/Warsaw
BEGIN:STANDARD
DTSTART:20191027T020000
TZOFFSETFROM:+0200
TZOFFSETTO:+0100
TZNAME:CET
END:STANDARD
END:VTIMEZONE
END:VCALENDAR