BEGIN:VCALENDAR
VERSION:2.0
PRODID:-//wp-events-plugin.com//7.2.3.1//EN
TZID:Europe/Warsaw
X-WR-TIMEZONE:Europe/Warsaw
BEGIN:VEVENT
UID:34681@night4u.pl
DTSTART;TZID=Europe/Warsaw:20191102T220000
DTEND;TZID=Europe/Warsaw:20191103T050000
DTSTAMP:20191103T002526Z
URL:https://night4u.pl/wydarzenia/noc-i-love-the-90s-lista-fb-do-2300/
SUMMARY:Noc: I Love The 90's / Lista FB do 23:00
DESCRIPTION:Taking you back in Time....\n\nW sobotnią Noc\, przeniesiemy W
 as w muzyczną podróż do czasów walkmana\, tazosów\, gumy Turbo i VHS-
 ów\, czyli wspaniałych lat 90-tych! Michael Jackson\, Spice Girls\, Nirv
 ana\, czy Just5 spoglądali na nas z plakatów wyrwanych z Bravo... W sobo
 tę ich hity polecą z naszych głośników. \n\n⚡DRESSCODE: 90's! ⚡ \
 n\n____________________________________________\nBAR: Happy Hours - 22:00 
 - 23:00\n✚ Finlandia + soft = 10 pln\n✚ Jagerbomba = 14\n✚ Whisky (D
 ewar's) + cola = 12\n✚ Cuba Libre = 12\n✚ Finlandia 0\,5 + soft = 60\n
 ____________________________________________\nRezerwacje stolika/ Reservat
 ions:\nMessenger\;\n692 186 469\n\nZ troski o naszych Gości\, oraz o zach
 owanie odpowiedniego klimatu każda rezerwacja podlega selekcji na wejści
 u.\n____________________________________________\n02.11. 2019 | start 22:0
 0 | door selection | wstęp: 10 pln | Lista FB do 23:00\nN O C
ATTACH;FMTTYPE=image/jpeg:https://night4u.pl/wp-content/uploads/2019/11/90
 123_image_74216768_764354997362032_6271746931949568000_o.jpg
CATEGORIES:lubelskie
LOCATION:NOC Klub\, Krakowskie Przedmieście 40\, Lublin\, 20-002\, Poland
GEO:51.247487;22.561243
X-APPLE-STRUCTURED-LOCATION;VALUE=URI;X-ADDRESS=Krakowskie Przedmieście 40
 \, Lublin\, 20-002\, Poland;X-APPLE-RADIUS=100;X-TITLE=NOC Klub:geo:51.247
 487,22.561243
END:VEVENT
BEGIN:VTIMEZONE
TZID:Europe/Warsaw
X-LIC-LOCATION:Europe/Warsaw
BEGIN:STANDARD
DTSTART:20191027T020000
TZOFFSETFROM:+0200
TZOFFSETTO:+0100
TZNAME:CET
END:STANDARD
END:VTIMEZONE
END:VCALENDAR