BEGIN:VCALENDAR
VERSION:2.0
PRODID:-//wp-events-plugin.com//7.2.3.1//EN
TZID:Europe/Warsaw
X-WR-TIMEZONE:Europe/Warsaw
BEGIN:VEVENT
UID:19486@night4u.pl
DTSTART;TZID=Europe/Warsaw:20190622T210000
DTEND;TZID=Europe/Warsaw:20190622T210000
DTSTAMP:20190617T194831Z
URL:https://night4u.pl/wydarzenia/noc-kupaly-archiwum-club-sobota/
SUMMARY:Noc Kupały  Archiwum Club #sobota
DESCRIPTION:W sobotę zapraszamy na magiczną noc #kupały! Weźcie ze sob
 ą wianki\, zapalimy ognisko ? a piękne niewiasty\, które odnajdą ukryt
 e kwiaty paproci otrzymają nagrody na barze ???\nZapraszamy!
ATTACH;FMTTYPE=image/jpeg:https://night4u.pl/wp-content/uploads/2019/06/46
 970_image_64511810_2404927279529514_216486658323775488_n.jpg
CATEGORIES:mazowieckie
LOCATION:Archiwum Club\, Grzecznarowskiego 2\, Radom\, 26-600\, Poland
GEO:51.389997;21.149948
X-APPLE-STRUCTURED-LOCATION;VALUE=URI;X-ADDRESS=Grzecznarowskiego 2\, Radom
 \, 26-600\, Poland;X-APPLE-RADIUS=100;X-TITLE=Archiwum Club:geo:51.389997,
 21.149948
END:VEVENT
BEGIN:VTIMEZONE
TZID:Europe/Warsaw
X-LIC-LOCATION:Europe/Warsaw
BEGIN:DAYLIGHT
DTSTART:20190331T030000
TZOFFSETFROM:+0100
TZOFFSETTO:+0200
TZNAME:CEST
END:DAYLIGHT
END:VTIMEZONE
END:VCALENDAR