BEGIN:VCALENDAR
VERSION:2.0
PRODID:-//wp-events-plugin.com//7.2.3.1//EN
TZID:Europe/Warsaw
X-WR-TIMEZONE:Europe/Warsaw
BEGIN:VEVENT
UID:6393@night4u.pl
DTSTART;TZID=Europe/Warsaw:20190209T220000
DTEND;TZID=Europe/Warsaw:20190210T050000
DTSTAMP:20190204T004213Z
URL:https://night4u.pl/wydarzenia/noc-mj-sax-live-x-grejtu-lista-fb/
SUMMARY:Noc: MJ SAX Live x Grejtu / Lista FB
DESCRIPTION:Już w sobotę\, 9 lutego na Nocnej scenie pojawi się jeden z 
 najbardziej wziętych i charyzmatycznych live act-ów klubowych w tym kraj
 u! Jedyny i niepowatarzalny MJ.SAX !!!\n\nRazem z GREJTU zgotują niezły 
 ogień\, dlatego koniecznie musicie być w Nocy tej Nocy :) To będzie pra
 wdziwy KARNAWAŁ!\n\n..no i kapuczino! Widzimy się!\n____________________
 ________________________\nLive Act:\n- MJ.SAX (Warszawa)\n\nDJ-ka:\n- GREJ
 TU\n____________________________________________\nRezerwacje / Reservation
 s:\nMessenger\;\n519 467 668\n\nZ troski o naszych Gości\, oraz o zachowa
 nie odpowiedniego klimatu każda rezerwacja podlega selekcji na wejściu.\
 n____________________________________________\n09.02.2019 | start 21:00 | 
 door selection | wstęp: 10 pln | Lista FB do godz. 23:00\nN O C
ATTACH;FMTTYPE=image/jpeg:https://night4u.pl/wp-content/uploads/2019/02/18
 893_image_50940265_601071197023747_4981635955636043776_o.jpg
CATEGORIES:lubelskie
LOCATION:NOC Klub\, Krakowskie Przedmieście 40\, Lublin\, 20-002\, Poland
GEO:51.247487;22.561243
X-APPLE-STRUCTURED-LOCATION;VALUE=URI;X-ADDRESS=Krakowskie Przedmieście 40
 \, Lublin\, 20-002\, Poland;X-APPLE-RADIUS=100;X-TITLE=NOC Klub:geo:51.247
 487,22.561243
END:VEVENT
BEGIN:VTIMEZONE
TZID:Europe/Warsaw
X-LIC-LOCATION:Europe/Warsaw
BEGIN:STANDARD
DTSTART:20181028T020000
TZOFFSETFROM:+0200
TZOFFSETTO:+0100
TZNAME:CET
END:STANDARD
END:VTIMEZONE
END:VCALENDAR