BEGIN:VCALENDAR
VERSION:2.0
PRODID:-//wp-events-plugin.com//7.2.3.1//EN
TZID:Europe/Warsaw
X-WR-TIMEZONE:Europe/Warsaw
BEGIN:VEVENT
UID:23013@night4u.pl
DTSTART;TZID=Europe/Warsaw:20190726T210000
DTEND;TZID=Europe/Warsaw:20190727T050000
DTSTAMP:20190724T175733Z
URL:https://night4u.pl/wydarzenia/noc-na-szpilkach-piatek-26-07-cala-noc-p
 anie-wstep-free/
SUMMARY:Noc na szpilkach - piątek 26.07 - całą noc Panie wstęp free
DESCRIPTION:Noc na szpilkach - to kultowy cykl imprez na który zapraszamy 
 wszystkie Panie! Tej nocy oddajemy klub w Wasze ręce ! A więc Ladies - p
 okażcie jak to się robi !!! Zakładajcie szpilki\, bierzcie koleżanki i
  pokażcie jak w piątkową noc bawią się kobiety ! \n\nSpecjalnie dla n
 aszych Pań imprezę poprowadzi rezydent klubu Cina - DJ Rossi\n\nPrzez ca
 łą noc wszystkie kobietki mają wstęp za free. \nPanowie do północy w
 stęp 5 zł\, po północy Panowie studenci wstęp 7 zł\, pozostali panow
 ie 10 zł\, selekcja 18+\nCzekamy na Was - startujemy o 21:00 \n\nPODSUMOW
 UJĄC : \n☛   Data: 26.07 - PIĄTEK \n☛   Godzina: 21:00 \n☛   Miejs
 ce: Cina Club  \n\nW chwili luzu przyda Ci się bezpłatna loża - zamówi
 sz ją na:\nwww.emenago.opole.pl
ATTACH;FMTTYPE=image/jpeg:https://night4u.pl/wp-content/uploads/2019/07/54
 374_image_67603501_2564730990257134_5983637025335541760_o.jpg
CATEGORIES:opolskie
LOCATION:Cina Club\, Katowicka 55\, Opole\, 45-061\, Poland
GEO:50.667448;17.93523
X-APPLE-STRUCTURED-LOCATION;VALUE=URI;X-ADDRESS=Katowicka 55\, Opole\, 45-0
 61\, Poland;X-APPLE-RADIUS=100;X-TITLE=Cina Club:geo:50.667448,17.93523
END:VEVENT
BEGIN:VTIMEZONE
TZID:Europe/Warsaw
X-LIC-LOCATION:Europe/Warsaw
BEGIN:DAYLIGHT
DTSTART:20190331T030000
TZOFFSETFROM:+0100
TZOFFSETTO:+0200
TZNAME:CEST
END:DAYLIGHT
END:VTIMEZONE
END:VCALENDAR