BEGIN:VCALENDAR
VERSION:2.0
PRODID:-//wp-events-plugin.com//7.2.3.1//EN
TZID:Europe/Warsaw
X-WR-TIMEZONE:Europe/Warsaw
BEGIN:VEVENT
UID:19408@night4u.pl
DTSTART;TZID=Europe/Warsaw:20190621T210000
DTEND;TZID=Europe/Warsaw:20190622T050000
DTSTAMP:20190614T195430Z
URL:https://night4u.pl/wydarzenia/noc-noc-kobiety-i-balety-panie-wstep-dar
 mowy/
SUMMARY:Noc: Noc Kobiety i Balety / Panie Wstęp Darmowy
DESCRIPTION:Noc\, Kobiety i balety ? | english below ⬇\n\nDrogie Panie\, 
 ta NOC należy do Was! W końcu NOC też jest Kobietą ?\nTego wieczoru\, 
 w tym cyklu imprez będzie na Was czekał w naszym klubie "Magiczny Stolik
 ". ?‍♂ Magiczny ponieważ te\, które przy nim siądą będą tej Nocy
  piły prosecco bez limitów! ? \nPodoba się Wam? ? Nam również - dlate
 go ? zapraszajcie do tego wydarzenia wszystkie swoje ?‍♀ znajome\, dzi
 ęki temu będziecie miały większą szansę\, że i Wy przy nim zasiądz
 iecie...\n\nPamiętajcie\, do północy wszystkie panie wchodzą do klubu 
 za darmo! ??\n \n✖ Co zrobić by dostać Magiczny Stolik? Szczegóły w 
 poście w tym wydarzeniu!\n____________________________________________\nH
 ey ladies\, this NIGHT is yours!\nThis evening\, in this series of events\
 , a "magic table" awaits you in our club.   \n♂ Magical because every la
 dy at this table drinks prosecco without limit!\nDo you like it? ? We also
 ! \nInvite all friends to the event! Thanks to that\, you increase your ch
 ances!\nRemember\, until midnight\, all women enter the club for free! ??\
 n\n✖ What to do to get a Magic Table? Details in the post in this event!
 \n____________________________________________\nDJ-ka:\n- Logan\n_________
 ___________________________________\nRezerwacje / Reservations:\nMessenger
 \;\n692 186 469\n\nZ troski o naszych Gości\, oraz o zachowanie odpowiedn
 iego klimatu każda rezerwacja podlega selekcji na wejściu.\n____________
 ________________________________\n21.05. 2019 | start 21:00 | door selecti
 on | ticket 10 PLN\; until midnight\, ladies for free | Lista FB do 22:00 
 |\nN O C
ATTACH;FMTTYPE=image/jpeg:https://night4u.pl/wp-content/uploads/2019/06/46
 780_image_62008658_668182566979276_8521381759995084800_o.jpg
CATEGORIES:lubelskie
LOCATION:NOC Klub\, Krakowskie Przedmieście 40\, Lublin\, 20-002\, Poland
GEO:51.247487;22.561243
X-APPLE-STRUCTURED-LOCATION;VALUE=URI;X-ADDRESS=Krakowskie Przedmieście 40
 \, Lublin\, 20-002\, Poland;X-APPLE-RADIUS=100;X-TITLE=NOC Klub:geo:51.247
 487,22.561243
END:VEVENT
BEGIN:VTIMEZONE
TZID:Europe/Warsaw
X-LIC-LOCATION:Europe/Warsaw
BEGIN:DAYLIGHT
DTSTART:20190331T030000
TZOFFSETFROM:+0100
TZOFFSETTO:+0200
TZNAME:CEST
END:DAYLIGHT
END:VTIMEZONE
END:VCALENDAR