BEGIN:VCALENDAR
VERSION:2.0
PRODID:-//wp-events-plugin.com//7.2.3.1//EN
TZID:Europe/Warsaw
X-WR-TIMEZONE:Europe/Warsaw
BEGIN:VEVENT
UID:18363@night4u.pl
DTSTART;TZID=Europe/Warsaw:20190615T210000
DTEND;TZID=Europe/Warsaw:20190616T050000
DTSTAMP:20190605T205414Z
URL:https://night4u.pl/wydarzenia/noc-noc-legend-lista-fb/
SUMMARY:Noc: Noc Legend / Lista FB
DESCRIPTION:Noc Legend | Legends Night - english below\n\nW ten weekend Lub
 lin żyje Festiwalem Legend. Zainspirowało nas to do stworzenia wyjątkow
 ego wydarzenia\, podczas którego celebrować będziemy legendy klubowe! P
 rzez całą Noc serwować będziemy legendarne klubowe szlagiery\, zarówn
 o muzyczne jak i barowe! \n\nTa noc będzie Legendarna! \n\n______________
 ______________________________\nLegends Night\n\nThis weekend Lublin hosts
  the Festival of Legends\, which inspired us to celebrate all the Club Leg
 ends! All night long we'll serve you the best club music hits and bar clas
 sics!\n\nThis night will be legendary! \n_________________________________
 ___________\nDJ-ka\n- Simpson\n___________________________________________
 _\nRezerwacje / Reservations:\nMessenger\;\n519 467 668\n\nZ troski o nasz
 ych Gości\, oraz o zachowanie odpowiedniego klimatu każda rezerwacja pod
 lega selekcji na wejściu.\n____________________________________________\n
 15.06. 2019 | start 21:00 | door selection | wstęp: 10 pln | Lista FB do 
 23:00\nN O C
ATTACH;FMTTYPE=image/jpeg:https://night4u.pl/wp-content/uploads/2019/06/44
 357_image_61870191_668184520312414_2482737954628304896_o.jpg
CATEGORIES:lubelskie
LOCATION:NOC Klub\, Krakowskie Przedmieście 40\, Lublin\, 20-002\, Poland
GEO:51.247487;22.561243
X-APPLE-STRUCTURED-LOCATION;VALUE=URI;X-ADDRESS=Krakowskie Przedmieście 40
 \, Lublin\, 20-002\, Poland;X-APPLE-RADIUS=100;X-TITLE=NOC Klub:geo:51.247
 487,22.561243
END:VEVENT
BEGIN:VTIMEZONE
TZID:Europe/Warsaw
X-LIC-LOCATION:Europe/Warsaw
BEGIN:DAYLIGHT
DTSTART:20190331T030000
TZOFFSETFROM:+0100
TZOFFSETTO:+0200
TZNAME:CEST
END:DAYLIGHT
END:VTIMEZONE
END:VCALENDAR