BEGIN:VCALENDAR
VERSION:2.0
PRODID:-//wp-events-plugin.com//7.2.3.1//EN
TZID:Europe/Warsaw
X-WR-TIMEZONE:Europe/Warsaw
BEGIN:VEVENT
UID:30678@night4u.pl
DTSTART;TZID=Europe/Warsaw:20191011T220000
DTEND;TZID=Europe/Warsaw:20191012T050000
DTSTAMP:20191015T103806Z
URL:https://night4u.pl/wydarzenia/noc-pijama-party-lista-fb/
SUMMARY:Noc: Pijama Party / Lista FB
DESCRIPTION:PIJAMA PARTY\n\nJuż w piątek koszule\, marynarki\, krawaty\, 
 suknie i szpilki odkładamy do szafy! Tej Nocy zakładamy PIŻAMY i bawimy
  się na pełnym luzie do samego rana! \n\nBAR: Happy Hours - 22:00 - 23:0
 0\n✔ Finlandia + soft = 10 pln\n✔ Jagerbomba = 14\n✔ Whisky (Dewarts
 ) + cola = 12\n✔ Cuba Libre = 12\n✔ Finlandia 0\,5 + soft = 60\n\n____
 ________________________________________\nEng\n\nOn Friday 11th october lo
 ose all your formal clothes and wear pijamas! This night we forget about s
 hirts\, dinner jackets\, dresses and high heels - all we care about is goo
 d fun untill morning! \n\n____________________________________________\nRe
 zerwacje stolika/ Reservations:\nMessenger\;\n692 186 469\n\nZ troski o na
 szych Gości\, oraz o zachowanie odpowiedniego klimatu każda rezerwacja p
 odlega selekcji na wejściu.\n____________________________________________
 \n11.10. 2019 | start 22:00 | door selection | wstęp: 10 pln | Lista FB d
 o 23:00\nN O C
ATTACH;FMTTYPE=image/jpeg:https://night4u.pl/wp-content/uploads/2019/10/70
 754_image_71677672_743585302772335_4557939321671254016_o.jpg
CATEGORIES:lubelskie
LOCATION:NOC Klub\, Krakowskie Przedmieście 40\, Lublin\, 20-002\, Poland
GEO:51.247487;22.561243
X-APPLE-STRUCTURED-LOCATION;VALUE=URI;X-ADDRESS=Krakowskie Przedmieście 40
 \, Lublin\, 20-002\, Poland;X-APPLE-RADIUS=100;X-TITLE=NOC Klub:geo:51.247
 487,22.561243
END:VEVENT
BEGIN:VTIMEZONE
TZID:Europe/Warsaw
X-LIC-LOCATION:Europe/Warsaw
BEGIN:DAYLIGHT
DTSTART:20190331T030000
TZOFFSETFROM:+0100
TZOFFSETTO:+0200
TZNAME:CEST
END:DAYLIGHT
END:VTIMEZONE
END:VCALENDAR