BEGIN:VCALENDAR
VERSION:2.0
PRODID:-//wp-events-plugin.com//7.2.3.1//EN
TZID:Europe/Warsaw
X-WR-TIMEZONE:Europe/Warsaw
BEGIN:VEVENT
UID:18995@night4u.pl
DTSTART;TZID=Europe/Warsaw:20190614T200000
DTEND;TZID=Europe/Warsaw:20190615T030000
DTSTAMP:20190612T190715Z
URL:https://night4u.pl/wydarzenia/noc-rezydentow-hulakula/
SUMMARY:Noc Rezydentów | Hulakula
DESCRIPTION:W najbliższy weekend do zabawy w rytmie najlepszych klubowych 
 hitów porwie Was dj Poniecki\, a w ogródku letnim o dawkę muzyki disco 
 polo zadba dj Vazz! \n\n#PROMO\nPierwsze 100 osób zarejestrowanych na wyd
 arzenie wchodzi za free!\n\nRezerwacja loży i stolików: https://rezerwac
 je.hulakula.com.pl\nGrill w ogródku czynny do północy\, a barmani czeka
 ją na Was przez całą noc!\n\nInformacje organizacyjne:\nData: 14/6/2019
  \nStart imprezy: 20:00 | dj Poniecki\nOgródek: disco polo | dj Vazz\nWst
 ęp 18+\nBilet: 15 zł \nDarmowy wstęp: \n- posiadacze kart VIP Cashback 
 Hulakula\,\n- osoby obchodzące w tym dniu urodziny lub imieniny.\n\nRezer
 wacja stolików i pakietów imprezowych możliwa z 14-dniowym wyprzedzenie
 m na https://rezerwacje.hulakula.com.pl/\n\n\nW celu zapewnienia gościom 
 klubu bezpieczeństwa oraz komfortu zabawy w lokalu obowiązuje selekcja\,
  która dotyczy to również osób umieszczonych na listach gości\, posia
 dających ogólnodostępne zaproszenia lub wcześniejszą rezerwację loż
 y w klubie\, wykupiony bilet lub kartę VIP Cashback Hulakula.
ATTACH;FMTTYPE=image/jpeg:https://night4u.pl/wp-content/uploads/2019/06/45
 934_image_62200130_10158440824709128_6747546982413238272_o.jpg
CATEGORIES:mazowieckie
LOCATION:Hulakula Rozrywkowe Centrum Miasta\, ul. Jagiellońska 82b\, Warsa
 w\, 03-301\, Poland
GEO:52.273342;21.017125
X-APPLE-STRUCTURED-LOCATION;VALUE=URI;X-ADDRESS=ul. Jagiellońska 82b\, War
 saw\, 03-301\, Poland;X-APPLE-RADIUS=100;X-TITLE=Hulakula Rozrywkowe Centr
 um Miasta:geo:52.273342,21.017125
END:VEVENT
BEGIN:VTIMEZONE
TZID:Europe/Warsaw
X-LIC-LOCATION:Europe/Warsaw
BEGIN:DAYLIGHT
DTSTART:20190331T030000
TZOFFSETFROM:+0100
TZOFFSETTO:+0200
TZNAME:CEST
END:DAYLIGHT
END:VTIMEZONE
END:VCALENDAR