BEGIN:VCALENDAR
VERSION:2.0
PRODID:-//wp-events-plugin.com//7.2.3.1//EN
TZID:Europe/Warsaw
X-WR-TIMEZONE:Europe/Warsaw
BEGIN:VEVENT
UID:25863@night4u.pl
DTSTART;TZID=Europe/Warsaw:20190913T230000
DTEND;TZID=Europe/Warsaw:20190914T050000
DTSTAMP:20190830T162810Z
URL:https://night4u.pl/wydarzenia/noc-rezydentow-tama/
SUMMARY:Noc Rezydentów | Tama
DESCRIPTION:Przed szczególna Noc Rezydentów\, która otworzy nasz rocznic
 owy weekend. Zagrają dla Was: \n\nTom Palash\nKeytov\nSIM.ON\n\ntax: 0 / 
 20 pln\n0 pln - lista fb "wezmę udział" do 24\n20 pln - pozostali\nlist
 ę zamykamy w dniu imprezy o 20
ATTACH;FMTTYPE=image/jpeg:https://night4u.pl/wp-content/uploads/2019/08/60
 552_image_69709883_2414267252227653_4730838225218699264_o.jpg
CATEGORIES:wielkopolskie
LOCATION:Tama\, ul. Niezłomnych 2\, Poznan\, 61-714\, Poland
GEO:52.402524;16.922364
X-APPLE-STRUCTURED-LOCATION;VALUE=URI;X-ADDRESS=ul. Niezłomnych 2\, Poznan
 \, 61-714\, Poland;X-APPLE-RADIUS=100;X-TITLE=Tama:geo:52.402524,16.922364
END:VEVENT
BEGIN:VTIMEZONE
TZID:Europe/Warsaw
X-LIC-LOCATION:Europe/Warsaw
BEGIN:DAYLIGHT
DTSTART:20190331T030000
TZOFFSETFROM:+0100
TZOFFSETTO:+0200
TZNAME:CEST
END:DAYLIGHT
END:VTIMEZONE
END:VCALENDAR