BEGIN:VCALENDAR
VERSION:2.0
PRODID:-//wp-events-plugin.com//7.2.3.1//EN
TZID:Europe/Warsaw
X-WR-TIMEZONE:Europe/Warsaw
BEGIN:VEVENT
UID:35962@night4u.pl
DTSTART;TZID=Europe/Warsaw:20191115T220000
DTEND;TZID=Europe/Warsaw:20191116T050000
DTSTAMP:20191116T002526Z
URL:https://night4u.pl/wydarzenia/noc-studenckie-kolo-lowcow-x-jagermeiste
 r-lista-fb-do-2300/
SUMMARY:Noc: Studenckie Koło Łowców x Jagermeister / Lista FB do 23:00
DESCRIPTION:Już w piątek Jeleń ponownie wkroczy na salony! Lubisz Jagera
 ? To świetnie się składa\, bo w piątek poleje się litrami! Razem ze S
 tudenckim Kołem Łowców przygotowaliśmy dla Was konkretny bal! \n\nPrze
 z całą Noc:\n† PODWAJAMY JAGERA †  \n_______________________________
 _____________\nDJ-ka:\n- FAKTO\n__________________________________________
 __\nRezerwacje stolika/ Reservations:\nMessenger\;\n692 186 469\n\nZ trosk
 i o naszych Gości\, oraz o zachowanie odpowiedniego klimatu każda rezerw
 acja podlega selekcji na wejściu.\n______________________________________
 ______\n15.11. 2019 | start 22:00 | door selection | wstęp: 10 pln  | Lis
 ta FB do 23:00\nN O C
ATTACH;FMTTYPE=image/jpeg:https://night4u.pl/wp-content/uploads/2019/11/96
 417_image_76176638_774833616314170_1252871565452771328_o.jpg
CATEGORIES:lubelskie
LOCATION:NOC Klub\, Krakowskie Przedmieście 40\, Lublin\, 20-002\, Poland
GEO:51.247487;22.561243
X-APPLE-STRUCTURED-LOCATION;VALUE=URI;X-ADDRESS=Krakowskie Przedmieście 40
 \, Lublin\, 20-002\, Poland;X-APPLE-RADIUS=100;X-TITLE=NOC Klub:geo:51.247
 487,22.561243
END:VEVENT
BEGIN:VTIMEZONE
TZID:Europe/Warsaw
X-LIC-LOCATION:Europe/Warsaw
BEGIN:STANDARD
DTSTART:20191027T020000
TZOFFSETFROM:+0200
TZOFFSETTO:+0100
TZNAME:CET
END:STANDARD
END:VTIMEZONE
END:VCALENDAR