BEGIN:VCALENDAR
VERSION:2.0
PRODID:-//wp-events-plugin.com//7.2.3.1//EN
TZID:Europe/Warsaw
X-WR-TIMEZONE:Europe/Warsaw
BEGIN:VEVENT
UID:5486@night4u.pl
DTSTART;TZID=Europe/Warsaw:20190202T220000
DTEND;TZID=Europe/Warsaw:20190203T070000
DTSTAMP:20190130T185848Z
URL:https://night4u.pl/wydarzenia/noc-the-final-party-random-dresscode-int
 ernational-party/
SUMMARY:Noc: The Final Party - Random Dresscode International Party
DESCRIPTION:The Final Party\n\nOn saturday\, 2nd of February pick your funn
 y random outfit and come to Noc Club having best time ever\, celebrating l
 ike it's the Final Party!\n\nBAR OFFER:\n✖ Soplica Vodka (Flavoured) sho
 t - 4 pln \n\n____________________________________________\nWersja Polska:
 \n\nW sobotę 2.02 zgarnij z szafy swój Nocny outfit i koniecznie odwied
 ź klub Noc\, w którym nie kończymy imprez przed świtem! \n\nBAR PROMO:
 \n ✖ Soplica (Smakowa) shot - 4 pln\n___________________________________
 _________\nLive Act:\n- Sulpivoice\n\nDJ's:\n- DVJ ROCCO\n- Dj Bruno\n____
 ________________________________________\nRezerwacje / Reservations:\nMess
 enger\;\n519 467 668\n\nZ troski o naszych Gości\, oraz o zachowanie odpo
 wiedniego klimatu każda rezerwacja podlega selekcji na wejściu.\n_______
 _____________________________________\n02.02.2019 | start 22:00 | door sel
 ection | wstęp: 10 pln | 5 presale\nN O C
ATTACH;FMTTYPE=image/jpeg:https://night4u.pl/wp-content/uploads/2019/01/16
 888_image_51060142_599366077194259_4817882321657004032_o.jpg
CATEGORIES:lubelskie
LOCATION:NOC Klub\, Krakowskie Przedmieście 40\, Lublin\, 20-002\, Poland
GEO:51.247487;22.561243
X-APPLE-STRUCTURED-LOCATION;VALUE=URI;X-ADDRESS=Krakowskie Przedmieście 40
 \, Lublin\, 20-002\, Poland;X-APPLE-RADIUS=100;X-TITLE=NOC Klub:geo:51.247
 487,22.561243
END:VEVENT
BEGIN:VTIMEZONE
TZID:Europe/Warsaw
X-LIC-LOCATION:Europe/Warsaw
BEGIN:STANDARD
DTSTART:20181028T020000
TZOFFSETFROM:+0200
TZOFFSETTO:+0100
TZNAME:CET
END:STANDARD
END:VTIMEZONE
END:VCALENDAR