BEGIN:VCALENDAR
VERSION:2.0
PRODID:-//wp-events-plugin.com//7.2.3.1//EN
TZID:Europe/Warsaw
X-WR-TIMEZONE:Europe/Warsaw
BEGIN:VEVENT
UID:5484@night4u.pl
DTSTART;TZID=Europe/Warsaw:20190130T000000
DTEND;TZID=Europe/Warsaw:20190131T070000
DTSTAMP:20190130T185847Z
URL:https://night4u.pl/wydarzenia/noc-traffic-lights-party-international-e
 rasmus-party/
SUMMARY:Noc: Traffic Lights Party - International Erasmus Party
DESCRIPTION:Noc Club and Bunga Bunga Events presents Traffic Lights Party!\
 n\nEntering the club\, you'll recieve a wristband. Each color represents y
 our status:\n\n☛ Green: Single\n☛ Yellow: Call me maybe\n☛  Red: Tak
 en\, but... :)\n\nThere is also BAR PROMO:\n✖✖✖  BEER - 3 pln ALL NI
 GHT LONG! ✖✖✖\n\n____________________________________________\nWersj
 a polska!\nJuż w środę klub Noc oraz Bunga Bunga Events zapraszają na 
 Traffic Lights Party!\n\nWchodząc do klubu otrzymasz opaskę\, które bę
 dzie reprezentować Twój status:\n\n☛ Zielony: Singiel / Singielka\n☛
  Żółty: To skomplikowane\n☛ Czerwony: Zajęty\, ale... :)\n\nBAR PROM
 O:\n✖✖✖ Przez całą noc piwo - 3 zł ✖✖✖\n\n_________________
 ___________________________\nRezerwacje / Reservations:\nMessenger\;\n519 
 467 668\n\nZ troski o naszych Gości\, oraz o zachowanie odpowiedniego kli
 matu każda rezerwacja podlega selekcji na wejściu.\n____________________
 ________________________\n30.01. 2019 | start 22:00 | door selection | wst
 ęp: 10 pln | 5 presale\nN O C
ATTACH;FMTTYPE=image/jpeg:https://night4u.pl/wp-content/uploads/2019/01/16
 884_image_50919504_598930700571130_6523795404088147968_o.jpg
CATEGORIES:lubelskie
LOCATION:NOC Klub\, Krakowskie Przedmieście 40\, Lublin\, 20-002\, Poland
GEO:51.247487;22.561243
X-APPLE-STRUCTURED-LOCATION;VALUE=URI;X-ADDRESS=Krakowskie Przedmieście 40
 \, Lublin\, 20-002\, Poland;X-APPLE-RADIUS=100;X-TITLE=NOC Klub:geo:51.247
 487,22.561243
END:VEVENT
BEGIN:VTIMEZONE
TZID:Europe/Warsaw
X-LIC-LOCATION:Europe/Warsaw
BEGIN:STANDARD
DTSTART:20181028T020000
TZOFFSETFROM:+0200
TZOFFSETTO:+0100
TZNAME:CET
END:STANDARD
END:VTIMEZONE
END:VCALENDAR