BEGIN:VCALENDAR
VERSION:2.0
PRODID:-//wp-events-plugin.com//7.2.3.1//EN
TZID:Europe/Warsaw
X-WR-TIMEZONE:Europe/Warsaw
BEGIN:VEVENT
UID:45410@night4u.pl
DTSTART;TZID=Europe/Warsaw:20200208T210000
DTEND;TZID=Europe/Warsaw:20200209T040000
DTSTAMP:20200208T091930Z
URL:https://night4u.pl/wydarzenia/noc-wariatow-%e2%9c%ae-cypis-solo-%e2%9c
 %ae-szmitek-genesis-zlotow/
SUMMARY:Noc Wariatów ✮ Cypis Solo ✮ Szmitek Genesis Złotów
DESCRIPTION:Nadchodzi kolejna\, gruba impreza w naszym klubie!\nTym razem z
 apraszamy Was na NOC WARIATÓW!\n\nTAKIEJ IMPREZY W GENESIS JESZCZE NIE BY
 ŁO!!!\n\nNa jednej scenie spotka się dwóch najbardziej kontrowersyjnych
  artystów polskiej sceny muzycznej w Polsce! \nPrzed Wami\, podczas jedne
 j imprezy ❌CYPIS SOLO i SZMITEK❌\, którzy znani są wszystkim z energ
 etycznych i chwytliwych beatów oraz niepowtarzalnych i często budzących
  kontrowersje  tekstów!\n\n➪ SOBOTA | 08.02.2020\n➪Imprezę nakręca:
  Dj Bolek\n➪Start imprezy: 21:00\n➪Rezerwacje: 725 743 566
ATTACH;FMTTYPE=image/jpeg:https://night4u.pl/wp-content/uploads/2020/01/14
 7397_image_83608541_2771183986271134_7432680058096975872_o.jpg
CATEGORIES:wielkopolskie
LOCATION:Genesis Złotów\, Za Dworcem 10\, Złotow\, 77-400\, Poland
GEO:53.35469;17.05598
X-APPLE-STRUCTURED-LOCATION;VALUE=URI;X-ADDRESS=Za Dworcem 10\, Złotow\, 7
 7-400\, Poland;X-APPLE-RADIUS=100;X-TITLE=Genesis Złotów:geo:53.35469,17
 .05598
END:VEVENT
BEGIN:VTIMEZONE
TZID:Europe/Warsaw
X-LIC-LOCATION:Europe/Warsaw
BEGIN:STANDARD
DTSTART:20191027T020000
TZOFFSETFROM:+0200
TZOFFSETTO:+0100
TZNAME:CET
END:STANDARD
END:VTIMEZONE
END:VCALENDAR