BEGIN:VCALENDAR
VERSION:2.0
PRODID:-//wp-events-plugin.com//7.2.3.1//EN
TZID:Europe/Warsaw
X-WR-TIMEZONE:Europe/Warsaw
BEGIN:VEVENT
UID:36695@night4u.pl
DTSTART;TZID=Europe/Warsaw:20191122T220000
DTEND;TZID=Europe/Warsaw:20191123T050000
DTSTAMP:20191123T002512Z
URL:https://night4u.pl/wydarzenia/noc-why-so-serious-joker-theme-party-x-e
 sn-lista-fb-do-2300/
SUMMARY:Noc: Why So Serious? Joker Theme Party x ESN / Lista FB do 23:00
DESCRIPTION:Już w piątek razem z ESN LUT oraz ESN UMCS zapraszamy na jedy
 ne w swoim rodzaju JOKER THEME PARTY! Tej Nocy nie bierz nic na serio... \
 n\nDla najlepszego "Jokera" przewidziana nagroda na barze! \n_____________
 _______________________________\nENG\n\nThis friday 22nd of november ESN L
 UT &amp\; ESN UMCS are inviting you to the one and only Joker Theme Party!
  This night don't take anything to seriously...\n\nBest Joker will be rewa
 rded with alcohol :)\n____________________________________________\nПри
 глашаем на начало серии вечеринок "Премь
 ерный Слёт". Свои люди\, наша музыка и абс
 олютный разрыв - вот рецепт афигенной ту
 сы\, которого мы додерживаемся\, чтобы Вы 
 были в восторге. Это всё у нас уже готово\
 , запоминайте:\nКлуб NOC\, 22 ноября\, начало: 
 22:00\n____________________________________________\nBAR: Happy Hours - 22
 :00 - 23:00\n✚ Finlandia + soft = 10 pln\n✚ Jagerbomba = 14\n✚ Whisk
 y (Dewar's) + cola = 12\n✚ Cuba Libre = 12\n✚ Finlandia 0\,5 + soft = 
 60\n\n____________________________________________\nDJ-ka:\n- Mordziński\
 n- Azaz\n- J-Ton\n____________________________________________\nRezerwacje
  stolika/ Reservations:\nMessenger\;\n692 186 469\n\nZ troski o naszych Go
 ści\, oraz o zachowanie odpowiedniego klimatu każda rezerwacja podlega s
 elekcji na wejściu.\n____________________________________________\n22.11.
  2019 | start 22:00 | door selection | wstęp: 10 pln | Lista FB do 23:00\
 nN O C
ATTACH;FMTTYPE=image/jpeg:https://night4u.pl/wp-content/uploads/2019/11/10
 1076_image_75402104_778321659298699_2706147275599511552_o.jpg
CATEGORIES:lubelskie
LOCATION:NOC Klub\, Krakowskie Przedmieście 40\, Lublin\, 20-002\, Poland
GEO:51.247487;22.561243
X-APPLE-STRUCTURED-LOCATION;VALUE=URI;X-ADDRESS=Krakowskie Przedmieście 40
 \, Lublin\, 20-002\, Poland;X-APPLE-RADIUS=100;X-TITLE=NOC Klub:geo:51.247
 487,22.561243
END:VEVENT
BEGIN:VTIMEZONE
TZID:Europe/Warsaw
X-LIC-LOCATION:Europe/Warsaw
BEGIN:STANDARD
DTSTART:20191027T020000
TZOFFSETFROM:+0200
TZOFFSETTO:+0100
TZNAME:CET
END:STANDARD
END:VTIMEZONE
END:VCALENDAR