BEGIN:VCALENDAR
VERSION:2.0
PRODID:-//wp-events-plugin.com//7.2.3.1//EN
TZID:Europe/Warsaw
X-WR-TIMEZONE:Europe/Warsaw
BEGIN:VEVENT
UID:30159@night4u.pl
DTSTART;TZID=Europe/Warsaw:20191011T210000
DTEND;TZID=Europe/Warsaw:20191012T050000
DTSTAMP:20191015T103818Z
URL:https://night4u.pl/wydarzenia/noc-znakomita-czas-exquisite/
SUMMARY:Noc znakomita - czas Exquisite
DESCRIPTION:W piątek wprowadzamy baśniowy element do klubowej rzeczywisto
 ści. W naszej bajce główne role zagrają Exquisite  Wyborowa oraz Graje
 k Kravietz aka Ckliwy Zgred.\n\nTej znakomitej nocy Wyborowa Exquisite pod
 awana będzie w magicznej cenie\, wyczarowanej na tę specjalną okazję\,
  jeden\, jedyny raz. Z kolei Grajka Kravtza przedstawiać nie trzeba\, od 
 lat tworzy magiczne dźwieki i bity. Legenda głosi\, że wspomaga się w 
 procesie twórczym naparem z Exquisita – stąd niesamowite efekty.\n\nDo
 łączcie do naszych czarów ✨\n\nPiękna Pszczoła\n⭐️ "Najlepszy k
 lub w mieście" ⭐️\n\nStart 21\nWejście free do 23 / 15zł\n\n📅 RE
 ZERWACJE \nWszystkie informacje dotyczące rezerwacji:\n☎️ 696-43-23-5
 3\n📩 piekna@pieknapszczola.pl
ATTACH;FMTTYPE=image/jpeg:https://night4u.pl/wp-content/uploads/2019/10/69
 528_image_71301202_347078619377902_6004462960976592896_n.jpg
CATEGORIES:lubelskie
LOCATION:Piękna Pszczoła\, Plac Teatralny 1 (Budynek CSK)\, Lublin\, 20-0
 37\, Poland
GEO:51.246524;22.548666
X-APPLE-STRUCTURED-LOCATION;VALUE=URI;X-ADDRESS=Plac Teatralny 1 (Budynek C
 SK)\, Lublin\, 20-037\, Poland;X-APPLE-RADIUS=100;X-TITLE=Piękna Pszczoł
 a:geo:51.246524,22.548666
END:VEVENT
BEGIN:VTIMEZONE
TZID:Europe/Warsaw
X-LIC-LOCATION:Europe/Warsaw
BEGIN:DAYLIGHT
DTSTART:20190331T030000
TZOFFSETFROM:+0100
TZOFFSETTO:+0200
TZNAME:CEST
END:DAYLIGHT
END:VTIMEZONE
END:VCALENDAR