BEGIN:VCALENDAR
VERSION:2.0
PRODID:-//wp-events-plugin.com//7.2.3.1//EN
TZID:Europe/Warsaw
X-WR-TIMEZONE:Europe/Warsaw
BEGIN:VEVENT
UID:45250@night4u.pl
DTSTART;TZID=Europe/Warsaw:20200201T210000
DTEND;TZID=Europe/Warsaw:20200202T050000
DTSTAMP:20200129T173112Z
URL:https://night4u.pl/wydarzenia/noche-caliente-con-dj-d/
SUMMARY:Noche Caliente con Dj D'!
DESCRIPTION:Zapraszamy na najlepszą imprezę latino w mieście. Będziemy 
 grali tylko piosenki\, które były hitami w historii naszych imprez! Widz
 imy się w sobotę w San Esco Bar przy Metrze Świętokrzyska! Najlepsza m
 uzyka do tańca\, najlepsze towarzystwo i najlepsza zabawa przez całą no
 c!\n\nZa konsoletą - DJ D będziemy bawić się przy najlepszych hitach m
 erengue\, bachaty\, salsy\, cumbii\, reggaetonu!\n\nhttps://www.facebook.c
 om/Dj-D-386535722083081/\n\nWSTĘP GRATIS CAŁĄ NOC\nStart: 21:00\nKończ
 ymy\, kiedy skończymy :)\n\n_____________________________________________
 ______\n\nLos invitamos a la Noche Caliente! Vamos a reproducir sólo canc
 iones que fueron éxitos en la historia de nuestros eventos! Nos vemos el 
 sábado en San Esco Bar cerca del metro Świętokrzyska! La mejor musica b
 ailable\, la mejor compañía y la mejor diversión toda la noche!\nEsta n
 oche de Dj D tomará las riendas y vamos a tocar los mejores éxitos de me
 rengue\, bachata\, salsa\, cumbia\, reggaeton!\n\nhttps://www.facebook.com
 /Dj-D-386535722083081/\n\nEntrada gratis
ATTACH;FMTTYPE=image/jpeg:https://night4u.pl/wp-content/uploads/2020/01/14
 6812_image_84209887_657606181642699_6314484639683575808_o.jpg
CATEGORIES:mazowieckie
LOCATION:San Esco Bar Pub&Cocktail Bar\, Świętokrzyska 18\, Warsaw\, 00-0
 41\, Poland
GEO:52.236023;21.01155
X-APPLE-STRUCTURED-LOCATION;VALUE=URI;X-ADDRESS=Świętokrzyska 18\, Warsaw
 \, 00-041\, Poland;X-APPLE-RADIUS=100;X-TITLE=San Esco Bar Pub&Cocktail Ba
 r:geo:52.236023,21.01155
END:VEVENT
BEGIN:VTIMEZONE
TZID:Europe/Warsaw
X-LIC-LOCATION:Europe/Warsaw
BEGIN:STANDARD
DTSTART:20191027T020000
TZOFFSETFROM:+0200
TZOFFSETTO:+0100
TZNAME:CET
END:STANDARD
END:VTIMEZONE
END:VCALENDAR