BEGIN:VCALENDAR
VERSION:2.0
PRODID:-//wp-events-plugin.com//7.2.3.1//EN
TZID:Europe/Warsaw
X-WR-TIMEZONE:Europe/Warsaw
BEGIN:VEVENT
UID:30568@night4u.pl
DTSTART;TZID=Europe/Warsaw:20191005T210000
DTEND;TZID=Europe/Warsaw:20191006T040000
DTSTAMP:20191011T070006Z
URL:https://night4u.pl/wydarzenia/nocna-jazda-z-krwawa-mary-x-club-nafta/
SUMMARY:Nocna jazda z Krwawą Mary x Club Nafta
DESCRIPTION:Czerwienieją liście na drzewach\, więc to idealny czas na s
 ączenie Krwawej Mary. \n\n🔶🔶🔶🔶🔶🔶\nMUSIC\nlegendarny DJ 
 BARTI\n\n🔶🔶🔶🔶🔶🔶\nPROMO BAR\n-&gt\; Bloody Mary/Krwawa Ma
 ry 12 PLN\n\n🔶🔶🔶🔶🔶🔶\nWJAZD\ndo 22:00 dziewczyny -&gt\; 1
 0 zł\nnormalnie: 16 zł\nWiek: +21\n\n🔶🔶🔶🔶🔶🔶\nREZERWACJ
 E LOŻY:\nTEL: 785 930 565
ATTACH;FMTTYPE=image/jpeg:https://night4u.pl/wp-content/uploads/2019/10/70
 476_image_71785644_1583137761823130_3075116328177106944_o.jpg
CATEGORIES:podkarpackie
LOCATION:Club Nafta\, ul. Lwowska 21\, Krosno\, 38-440\, Poland
GEO:49.683733;21.772154
X-APPLE-STRUCTURED-LOCATION;VALUE=URI;X-ADDRESS=ul. Lwowska 21\, Krosno\, 3
 8-440\, Poland;X-APPLE-RADIUS=100;X-TITLE=Club Nafta:geo:49.683733,21.7721
 54
END:VEVENT
BEGIN:VTIMEZONE
TZID:Europe/Warsaw
X-LIC-LOCATION:Europe/Warsaw
BEGIN:DAYLIGHT
DTSTART:20190331T030000
TZOFFSETFROM:+0100
TZOFFSETTO:+0200
TZNAME:CEST
END:DAYLIGHT
END:VTIMEZONE
END:VCALENDAR