BEGIN:VCALENDAR
VERSION:2.0
PRODID:-//wp-events-plugin.com//7.2.3.1//EN
TZID:Europe/Warsaw
X-WR-TIMEZONE:Europe/Warsaw
BEGIN:VEVENT
UID:49653@night4u.pl
DTSTART;TZID=Europe/Warsaw:20200314T200000
DTEND;TZID=Europe/Warsaw:20200315T040000
DTSTAMP:20200314T041539Z
URL:https://night4u.pl/wydarzenia/nocne-manewry-im-wczesniej-w-klubie-tym-
 taniej-14-03-sobota/
SUMMARY:Nocne Manewry (Im Wcześniej W Klubie\, Tym Taniej) | 14.03 Sobota
DESCRIPTION:⛔ UWAGA ⛔ WAŻNA INFORMACJA ⛔\n\nDrodzy Klubowicze\, w zw
 iązku z aktualną sytuacją w kraju oraz w trosce o Wasze bezpieczeństwo
 \, które jest dla nas priorytetem decydujemy o odwołaniu imprez przez na
 jbliższe dwa tygodnie.\nMamy nadzieję\, że sytuacja zmieni się na leps
 ze i już wkrótce ponownie zobaczymy się w klubie.\nO wszystkim będziem
 y informować na bieżąco.\n\nJednocześnie informujemy\, że klub i krę
 gle są czynne w godzinach 14:00 do 22:00. Odwołujemy się do Waszego zdr
 owego rozsądku - jeżeli nie czujesz się najlepiej zostań w domu i post
 ępuj zgodnie z zaleceniami służb sanitarnych oraz epidemiologicznych.\n
 \nPozdrawiamy\nKlub CHACHArnia
ATTACH;FMTTYPE=image/jpeg:https://night4u.pl/wp-content/uploads/2020/03/17
 3271_image_88961779_1342276089293107_7426345419422040064_o.jpg
CATEGORIES:śląskie
LOCATION:CHACHArnia\, Legionów 83A\, Czechowice-Dziedzice\, 43-502\, Polan
 d
GEO:49.911417;18.997156
X-APPLE-STRUCTURED-LOCATION;VALUE=URI;X-ADDRESS=Legionów 83A\, Czechowice-
 Dziedzice\, 43-502\, Poland;X-APPLE-RADIUS=100;X-TITLE=CHACHArnia:geo:49.9
 11417,18.997156
END:VEVENT
BEGIN:VTIMEZONE
TZID:Europe/Warsaw
X-LIC-LOCATION:Europe/Warsaw
BEGIN:STANDARD
DTSTART:20191027T020000
TZOFFSETFROM:+0200
TZOFFSETTO:+0100
TZNAME:CET
END:STANDARD
END:VTIMEZONE
END:VCALENDAR