BEGIN:VCALENDAR
VERSION:2.0
PRODID:-//wp-events-plugin.com//7.2.3.1//EN
TZID:Europe/Warsaw
X-WR-TIMEZONE:Europe/Warsaw
BEGIN:VEVENT
UID:1409@night4u.pl
DTSTART;TZID=Europe/Warsaw:20190302T190000
DTEND;TZID=Europe/Warsaw:20190302T235900
DTSTAMP:20181227T232326Z
URL:https://night4u.pl/wydarzenia/nocny-kochanek-nowy-andergrant-olsztyn/
SUMMARY:Nocny Kochanek @Nowy Andergrant - Olsztyn
DESCRIPTION:Nocny Kochanek i Gorgonzolla w Olsztynie!  \n\nBilety dostępne
  w klubie oraz sprzedaży online: 40 zł przedsprzedaż / 50 zł w dniu ko
 ncertu.\n\nBilety: https://goout.net/pl/bilety/nocny-kochanek/tksd/\nFaceb
 ook: www.facebook.com/nocnykochanek\nYouTube: www.youtube.com/c/NocnyKocha
 nek\nStrona internetowa: www.nocnykochanek.pl\n\nNocny Kochanek to muzyczn
 ie klasyczny heavy metal inspirowany gigantami gatunku\, co słychać na p
 ierwszy rzut… ucha. Teksty zawierają specyficzny nocno-kochankowy humor
  i zazwyczaj opierają się na faktach\, czasami nawet autentycznych..! Wy
 korzystując humor bazujący często na pastiszu\, grach językowych i abs
 trakcji\, Nocny Kochanek rysuje obraz polskiej subkultury metalowej z ogro
 mnym dystansem do samych siebie oraz do wizerunku kojarzonego zazwyczaj z 
 klasycznym heavy metalem. \n\n"Randka w Ciemność" to trzeci studyjny alb
 um zespołu Nocny Kochanek. Grupa prezentuje kolejną porcję humoru w war
 stwie lirycznej\, tym razem skupiając się głównie na relacjach damsko-
 męskich. Muzycznie\, album inspirowany jest ikonami gatunku: Iron Maiden\
 , Metallica\, Blind Guardian czy Manowar. Autorem ilustracji jest ponownie
  Robert Adler. "Randka w Ciemność" to jego czwarta okładka wykonana dla
  zespołu.\nPremiera wydawnictwa: piątek – 11 stycznia 2019. Płyty CD 
 do nabycia na sklep.nocnykochanek.pl oraz w sklepach muzycznych i księgar
 niach w całej Polsce. \n\n==\n\nGorgonzolla - dwa różne wokale\, dwa r
 óżne światy i szczery przekaz\, tak w skrócie można opisać warszawsk
 i zespół.  Wydana w kwietniu 2016\, debiutancka płyta pod tytułem ''Ek
 sploatowani'' zaprowadziła grupę na scenę 22. Przystanku Woodstock oraz
  została doceniona przez Antyradio\, utrzymując się przez kilka tygodni
  w notowaniu TURBO TOP oraz przez pismo Teraz ROCK. Obecnie Gorgonzolla pr
 zygotowuje materiał na drugi album\, którego nazwa to 'Konsumpcja'. Zesp
 ół ma za sobą również supportowanie takich ekip jak: Luxtorpeda\, KSU
 \, Closterkeller\, Kabanos i ZENEK.\n\nFB: https://www.facebook.com/Gorgon
 zolla/\nYT: https://www.youtube.com/watch?v=2oxRmXhHth4
ATTACH;FMTTYPE=image/jpeg:https://night4u.pl/wp-content/uploads/2018/12/66
 69_image_46934602_2074663532846807_6251375395258499072_o.jpg
CATEGORIES:warmińsko-mazurskie
LOCATION:\, \, 
X-APPLE-STRUCTURED-LOCATION;VALUE=URI;X-ADDRESS=\, ;X-APPLE-RADIUS=100;X-TI
 TLE=:geo:0,0
END:VEVENT
BEGIN:VTIMEZONE
TZID:Europe/Warsaw
X-LIC-LOCATION:Europe/Warsaw
BEGIN:STANDARD
DTSTART:20181028T020000
TZOFFSETFROM:+0200
TZOFFSETTO:+0100
TZNAME:CET
END:STANDARD
END:VTIMEZONE
END:VCALENDAR