BEGIN:VCALENDAR
VERSION:2.0
PRODID:-//wp-events-plugin.com//7.2.3.1//EN
TZID:Europe/Warsaw
X-WR-TIMEZONE:Europe/Warsaw
BEGIN:VEVENT
UID:37142@night4u.pl
DTSTART;TZID=Europe/Warsaw:20191205T213000
DTEND;TZID=Europe/Warsaw:20191205T233000
DTSTAMP:20200401T082048Z
URL:https://night4u.pl/wydarzenia/nocny-koncert-grunge-rower-w-starym-klas
 ztorze/
SUMMARY:Nocny Koncert: Grunge Rower w Starym Klasztorze!
DESCRIPTION:W porze w której wszystkie liście już pożółkły\, a mrok 
 i malancholia coraz zimniejszymi dłońmi dotyka naszych ust\, czas udać 
 się z nami na rowerze grungu\, wprost do starego klasztoru i wysłuchać 
 kawałka muzyki płynącej wprost z pogańskiej góry Ślęży! \n\nTrzy g
 itary\, perkusja i wokal. Kto nie słyszał\, ten powinien a kto był ten 
 wraca. Nietuzinkowe teksty prawdziwego polskiego grungu zapukają przed ś
 w. Mikołajem wprost do waszych serc. \n\nwstęp : bezpłatny
ATTACH;FMTTYPE=image/jpeg:https://night4u.pl/wp-content/uploads/2019/11/10
 2408_image_75557499_1455421084605623_4352710829192249344_o.jpg
CATEGORIES:dolnośląskie
LOCATION:Restauracja Stary Klasztor\, Purkyniego 1 A\, Wroclaw\, 50-155\, P
 oland
GEO:51.110371;17.044279
X-APPLE-STRUCTURED-LOCATION;VALUE=URI;X-ADDRESS=Purkyniego 1 A\, Wroclaw\, 
 50-155\, Poland;X-APPLE-RADIUS=100;X-TITLE=Restauracja Stary Klasztor:geo:
 51.110371,17.044279
END:VEVENT
BEGIN:VTIMEZONE
TZID:Europe/Warsaw
X-LIC-LOCATION:Europe/Warsaw
BEGIN:STANDARD
DTSTART:20191027T020000
TZOFFSETFROM:+0200
TZOFFSETTO:+0100
TZNAME:CET
END:STANDARD
END:VTIMEZONE
END:VCALENDAR