BEGIN:VCALENDAR
VERSION:2.0
PRODID:-//wp-events-plugin.com//7.2.3.1//EN
TZID:Europe/Warsaw
X-WR-TIMEZONE:Europe/Warsaw
BEGIN:VEVENT
UID:49864@night4u.pl
DTSTART;TZID=Europe/Warsaw:20200315T150000
DTEND;TZID=Europe/Warsaw:20200315T150000
DTSTAMP:20200311T182856Z
URL:https://night4u.pl/wydarzenia/nogi-do-gory-festiwal-amatorskich-filmow
 -sportowych/
SUMMARY:NOGI DO GÓRY FESTIWAL AMATORSKICH FILMÓW SPORTOWYCH
DESCRIPTION:Pokazy filmów sportowych * Prelekcje * Magdalena Gorzkowska * 
 Stickorama * Krzysztof Trebunia - Tutka * Afterparty DJ FEEL-X Junior Stre
 ss * Silver Dread * DJ OK
ATTACH;FMTTYPE=image/jpeg:https://night4u.pl/wp-content/uploads/2020/03/17
 4058_image_87806361_149061593234688_905814448176889856_n.jpg
CATEGORIES:małopolskie
LOCATION:Le Scandale Zakopane\, Zaruskiego 5 · Zakopane\, Zakopane\, 34-50
 0\, Poland
GEO:49.294475;19.950227
X-APPLE-STRUCTURED-LOCATION;VALUE=URI;X-ADDRESS=Zaruskiego 5 · Zakopane\, 
 Zakopane\, 34-500\, Poland;X-APPLE-RADIUS=100;X-TITLE=Le Scandale Zakopane
 :geo:49.294475,19.950227
END:VEVENT
BEGIN:VTIMEZONE
TZID:Europe/Warsaw
X-LIC-LOCATION:Europe/Warsaw
BEGIN:STANDARD
DTSTART:20191027T020000
TZOFFSETFROM:+0200
TZOFFSETTO:+0100
TZNAME:CET
END:STANDARD
END:VTIMEZONE
END:VCALENDAR