BEGIN:VCALENDAR
VERSION:2.0
PRODID:-//wp-events-plugin.com//7.2.3.1//EN
TZID:Europe/Warsaw
X-WR-TIMEZONE:Europe/Warsaw
BEGIN:VEVENT
UID:47166@night4u.pl
DTSTART;TZID=Europe/Warsaw:20200215T210000
DTEND;TZID=Europe/Warsaw:20200216T050000
DTSTAMP:20200215T143544Z
URL:https://night4u.pl/wydarzenia/noir-valentines/
SUMMARY:NOIR Valentines
DESCRIPTION:Zapraszamy na walentynkowy pokaz bielizny wieczorowej marki Noi
 r Handmade\, który odbędzie się w strefie VIP.\n\nNoir Handmade to pols
 ka marka założona w 2010 roku przez utalentowaną kobietę\, która twor
 zy unikatowe i oryginalne modele bielizny zarówno dla kobiet jak i dla m
 ężczyzn. Zdecydowanie tym co wyróżnia firmę na tle innych są niesamo
 wicie seksowne propozycje wykonane głównie z najwyższej jakości materi
 ałów typu wet look.\n\nMusic:\nMeg Soul\nDj D'Vision\nAlex Inc
ATTACH;FMTTYPE=image/jpeg:https://night4u.pl/wp-content/uploads/2020/02/15
 7346_image_86185038_2837005946338052_8344725820920561664_o.jpg
CATEGORIES:dolnośląskie
LOCATION:GREY MUSIC CLUB\, ul.Św. Mikołaja 8-11\, Wroclaw\, 50-127\, Pola
 nd
GEO:51.11149;17.029201
X-APPLE-STRUCTURED-LOCATION;VALUE=URI;X-ADDRESS=ul.Św. Mikołaja 8-11\, Wr
 oclaw\, 50-127\, Poland;X-APPLE-RADIUS=100;X-TITLE=GREY MUSIC CLUB:geo:51.
 11149,17.029201
END:VEVENT
BEGIN:VTIMEZONE
TZID:Europe/Warsaw
X-LIC-LOCATION:Europe/Warsaw
BEGIN:STANDARD
DTSTART:20191027T020000
TZOFFSETFROM:+0200
TZOFFSETTO:+0100
TZNAME:CET
END:STANDARD
END:VTIMEZONE
END:VCALENDAR