BEGIN:VCALENDAR
VERSION:2.0
PRODID:-//wp-events-plugin.com//7.2.3.1//EN
TZID:Europe/Warsaw
X-WR-TIMEZONE:Europe/Warsaw
BEGIN:VEVENT
UID:16393@night4u.pl
DTSTART;TZID=Europe/Warsaw:20190608T210000
DTEND;TZID=Europe/Warsaw:20190609T060000
DTSTAMP:20190517T210710Z
URL:https://night4u.pl/wydarzenia/noise-me-to-the-end-of-love/
SUMMARY:Noise me to the end of love
DESCRIPTION:Noise me to the end of love\n\nLENA\nLena od zawsze była uczes
 tniczką łódzkiej sceny klubowej\, teraz zebrane doświadczenia krystali
 zują się w jej setach Dj'skich. Jej styl jest mroczny oraz niezwykle dyn
 amiczny. Miksuje czarne krążki dobrane z najlepszych współczesnych lab
 elów A+W\, Mord \, Bite \,Pinkman czy L I E S .Na imprezach nadaje zniewa
 lający puls\, pod który musisz się podporządkować aby odczuć smak no
 cy w Łodzi.\n\nMarta Kortan - logiczna postać\, niebieskie światełko.\
 n\nNina Ryczy \nMusi zagrać\, bo inaczej ją rozdupi.\n\nWolfgang Talkum 
 to postać fikcyjna\, tworząca utwory z pomocą aplikacji serwisów strea
 mingowych. Pierwotne właściwości dźwięku poddaje przypadkowej kompres
 ji\, w której widzi symbol wykruszania się ładunku emocjonalnego treśc
 i publikowanych w internecie. W swojej twórczości skupia się na problem
 ach tożsamościowych\, które w języku muzyki widzi jako powracające\, 
 narastające i niemożliwe do przeskoczenia ściany dźwięków\, finalnie
  ulegające wokalnym rozładowaniom.\n\nSmutaž- duet dbający o to\, żeb
 y w Łodzi nie było za wesoło.\n\nSmutne Kobiety\nDuet powstał w 2014 r
 oku w Łodzi. Nojz\, zniekształcenia\, przester\, połączone z depresyjn
 ymi tekstami oraz elementami melodii\, rytmu i nagrań terenowych to muzyk
 a Smutnych Kobiet. Intencjonalnie ostra i intensywna\, a jednocześnie mon
 otonna\, wyrasta z koncepcji Weltschmerz\, cyfrowej nostalgii i feminizmu.
  Polem działania Smutnych Kobiet jest historia sztuki\, współczesna kul
 tura\, codzienność skupiona wokół utrzymania się przy życiu\, a tech
 nologia\, często używana niezgodnie ze swoim przeznaczeniem\, służy pr
 zede wszystkim ochronie wrażliwego ciała.\n\nWstęp: 10 zł
ATTACH;FMTTYPE=image/jpeg:https://night4u.pl/wp-content/uploads/2019/05/40
 140_image_60184287_2394948407216494_399522148546248704_n.jpg
CATEGORIES:łódzkie
LOCATION:DOM\, Piotrkowska 138/140\, Łódź\, 90-062\, Poland
GEO:51.761319;19.459444
X-APPLE-STRUCTURED-LOCATION;VALUE=URI;X-ADDRESS=Piotrkowska 138/140\, Łód
 ź\, 90-062\, Poland;X-APPLE-RADIUS=100;X-TITLE=DOM:geo:51.761319,19.45944
 4
END:VEVENT
BEGIN:VTIMEZONE
TZID:Europe/Warsaw
X-LIC-LOCATION:Europe/Warsaw
BEGIN:DAYLIGHT
DTSTART:20190331T030000
TZOFFSETFROM:+0100
TZOFFSETTO:+0200
TZNAME:CEST
END:DAYLIGHT
END:VTIMEZONE
END:VCALENDAR