BEGIN:VCALENDAR
VERSION:2.0
PRODID:-//wp-events-plugin.com//7.2.3.1//EN
TZID:Europe/Warsaw
X-WR-TIMEZONE:Europe/Warsaw
BEGIN:VEVENT
UID:36776@night4u.pl
DTSTART;TZID=Europe/Warsaw:20191228T190000
DTEND;TZID=Europe/Warsaw:20191228T220000
DTSTAMP:20191228T054244Z
URL:https://night4u.pl/wydarzenia/normalsi-w-lodzi-scenografia-pre-order-n
 owej-plyty/
SUMMARY:Normalsi w Łodzi!/ Scenografia / Pre-Order nowej płyty!
DESCRIPTION:Wreszcie możemy to napisać - najnowsza płyta Normalsów\, za
 tytułowana „Wiry” ukaże się w styczniu 2020 r. :)\n\nPrzedpremierow
 o będzie ją można nabyć na koncertach  w grudniu 2019 i w styczniu 202
 0 r.\n\nSztuka: start 21.00\nOtwarcie klubu: 19.00\n\nBilety w przedsprzed
 aży: 35PLN\nw dniu koncertu: 45PLN\n\nPrzedsprzedaż:\n➡️https://goin
 gapp.pl/evt/2178803/normalsi-lodz-scenografia\nhttps://www.biletomat.pl/po
 p-rock/normalsi-lodz-8773/\n➡️Pinot Wine &amp\; Spirits Piotrkowska 18
 3/187\n\nNajnowsza płyta Normalsów\, zatytułowana „Wiry” ukaże si
 ę w styczniu 2020 r. Przedpremierowo będzie ją można nabyć na koncert
 ach  w grudniu 2019 i w styczniu 2020 r.\n„Twórczość Normalsów intry
 guje – napisał miesięcznik „Teraz Rock” – Muzycznie osadzona w g
 runge`u\, tekstowo dość poetycka\, z konceptualnym zarysem poszczególny
 ch albumów”. \nDebiut płytowy łódzkich Normalsów - album „Soliloq
 uium” \, wydany  w 2005 r.  i ” Dekalog czyli Piekło Muzykantów” 
 – wydany rok później (2006)\, okazały się sukcesem artystycznym. W r
 oku 2007 kuratorzy oświaty w Polsce nagradzają płytą Normalsów najlep
 szych maturzystów w kraju.\nBogaty  dorobek twórczy łódzkich Normalsó
 w stał się inspiracją dla ludzi teatru. Fabularne utwory zespołu uruch
 omiły reżyserską wyobraźnię. Owocem tego było widowisko rockowe „
 Łajza” (prapremiera – styczeń 2013 r.) Oparty na tekstach i muzyce N
 ormalsów spektakl „Łajza” przyniósł im uznanie środowisk artystyc
 znych i szerokiej publiczności\, interesującej się nie tylko muzyką ro
 ckową\, ale także jej fuzją z różnymi formami tanecznymi\, a także z
  muzyką klasyczną – w tym przypadku to  dzieła J.S. Bacha.\nSpektakl 
 „Łajza” zdobył „Złotą Maskę” – nagrodę dziennikarzy dla tw
 órców teatru i dwie nagrody ogólnopolskie im. J. Kiepury. W ciągu trze
 ch sezonów został zagrany kilkadziesiąt razy\, ciesząc się ogromną p
 opularnością . Obejrzało go dotychczas ponad 30 tysięcy osób. Fundacj
 a Dom Muzyki – dotychczasowy wydawca Normalsów - przygotowała płytę 
 dvd ze spektaklem „Łajza” (premiera 22 stycznia 2016).\nZespół  Nor
 malsi w latach 2008 – 2011 co roku organizował trasy koncertowe w Polsc
 e\, promujące łódzką scenę rockową\, czyniąc z nich objazdowy festi
 wal „Łódzka Scena Muzyczna – Barwy Rocka”\, do udziału w którym 
 Normalsi zaprosili takie łódzkie zespoły\, jak Coma\, L.Stadt\, Power o
 f Trinity\, Psychocukier .\n​Obecnie zespół Normalsi  tworzą: Piotr C
 hypis Pachulski – gitary\, wokal\, Przemysław Wyrwas – gitara basowa\
 , Michał Usdrowski – perkusja.\n \nDyskografia zespołu Normalsi:\n1. 
 „Soliloquium” – 2005 (w składzie: Piotr Pachulski\, Mirek Mazurczyk
 \, Adam Marszałkowski\, Marcin Ritter) \n2. „Dekalog czyli Piekło Muzy
 kantów” – 2006 (w składzie: Piotr Pachulski\, Mirek Mazurczyk\, Adam
  Marszałkowski\, Marcin Ritter)\n3. „Live Underground in Łódź” (dv
 d) – 2007 (w składzie: Piotr Pachulski\, Mirek Mazurczyk\, Adam Marsza
 łkowski\, Marcin Ritter)\n4. „Pokój z widokiem na wojnę”  - 2009 (w
  składzie: Piotr Pachulski\, Mirek Mazurczyk\, Krzysztof Szewczyk\, Marci
 n Ritter)\n5. „Łajza” (dvd) – 2016 (w składzie: Piotr Pachulski\, 
 Mirek Mazurczyk\, Grzegorz Szelewa\, Przemek Wyrwas)
ATTACH;FMTTYPE=image/jpeg:https://night4u.pl/wp-content/uploads/2019/11/10
 1319_image_72973541_2621289774584416_2685821914101841920_n.jpg
CATEGORIES:łódzkie
END:VEVENT
BEGIN:VTIMEZONE
TZID:Europe/Warsaw
X-LIC-LOCATION:Europe/Warsaw
BEGIN:STANDARD
DTSTART:20191027T020000
TZOFFSETFROM:+0200
TZOFFSETTO:+0100
TZNAME:CET
END:STANDARD
END:VTIMEZONE
END:VCALENDAR