BEGIN:VCALENDAR
VERSION:2.0
PRODID:-//wp-events-plugin.com//7.2.3.1//EN
TZID:Europe/Warsaw
X-WR-TIMEZONE:Europe/Warsaw
BEGIN:VEVENT
UID:14184@night4u.pl
DTSTART;TZID=Europe/Warsaw:20190612T190000
DTEND;TZID=Europe/Warsaw:20190612T220000
DTSTAMP:20190429T194947Z
URL:https://night4u.pl/wydarzenia/nothingnowhere12-06-2019-warszawa-proxim
 a/
SUMMARY:Nothing\,nowhere:12.06.2019 Warszawa\, Proxima
DESCRIPTION:Agencja Go Ahead zaprasza na koncert nothing\,nowhere. już 12 
 czerwca w Warszawie. Muzyk wraca do naszego kraju po wyprzedanym koncercie
  w listopadzie. \n\nSprzedaż biletów rozpocznie się w poniedziałek\, 2
 9 kwietnia o godzinie 11:00.\n\nnothing\,nowhere. znajdziecie tworzącego 
 w samotności - gdzieś w zagraconej piwnicy w Vermont. To w tym podziemiu
  aspołeczny chłopak postanowił w ironiczny sposób dotrzeć ze swoją t
 wórczością nie tylko do reszty kraju\, ale też świata. Od czasu rozpo
 częcia jego artystycznej działalności (kwiecień 2015) osiągnął pona
 d milion odtworzeń na platformie SoundCloud w przeciągu dziesięciu mies
 ięcy i znalazł swoje miejsce w sieci. Jego muzyka to emo spotykające tr
 ap i szarpiące serce gitarowe riffy. Zapomnijcie jednak o gatunkach – t
 o po prostu nothing\,nowhere.\n\nPrzypominamy\, że kupując bilety od os
 ób umieszczających oferty odsprzedaży na Facebooku możecie Państwo zo
 stać oszukani – ryzykujecie w ten sposób kupno fałszywych wejściówe
 k\, które nie umożliwią wejścia na koncert. Prosimy o kupowanie bilet
 ów wyłącznie w autoryzowanych punktach sprzedaży! Autoryzowanymi punkt
 ami sprzedaży nie są m.in. Viagogo\, Ticketswap\, Allegro\, OLX. \n\nDat
 a: 2019-06-12 (środa)\nMiasto: Warszawa\nMiejsce: Proxima\nGodziny: 19:00
  – wejście // 20:00 – start koncertu\nCeny biletów: 79 zł (przedspr
 zedaż) // 90 zł (w dniu koncertu)\nMiejsca sprzedaży: www.ticketmaster.
 pl\, www.ebilet.pl\, www.biletomat.pl (bilety kolekcjonerskie)\, www.empik
 bilety.pl\, www.goingapp.pl oraz sklepy sieci Empik\, Media Markt.
ATTACH;FMTTYPE=image/jpeg:https://night4u.pl/wp-content/uploads/2019/04/35
 475_image_58704236_10161839508780486_1079463510712254464_o.jpg
CATEGORIES:mazowieckie
LOCATION:Klub Proxima\, ul. Żwirki i Wigury 99a\, Warsaw\, 02-089\, Poland
GEO:52.212586;20.98704
X-APPLE-STRUCTURED-LOCATION;VALUE=URI;X-ADDRESS=ul. Żwirki i Wigury 99a\, 
 Warsaw\, 02-089\, Poland;X-APPLE-RADIUS=100;X-TITLE=Klub Proxima:geo:52.21
 2586,20.98704
END:VEVENT
BEGIN:VTIMEZONE
TZID:Europe/Warsaw
X-LIC-LOCATION:Europe/Warsaw
BEGIN:DAYLIGHT
DTSTART:20190331T030000
TZOFFSETFROM:+0100
TZOFFSETTO:+0200
TZNAME:CEST
END:DAYLIGHT
END:VTIMEZONE
END:VCALENDAR