BEGIN:VCALENDAR
VERSION:2.0
PRODID:-//wp-events-plugin.com//7.2.3.1//EN
TZID:Europe/Warsaw
X-WR-TIMEZONE:Europe/Warsaw
BEGIN:VEVENT
UID:5716@night4u.pl
DTSTART;TZID=Europe/Warsaw:20190223T223000
DTEND;TZID=Europe/Warsaw:20190224T073000
DTSTAMP:20190131T143302Z
URL:https://night4u.pl/wydarzenia/novika-mr-lex-x-prozak-2-0/
SUMMARY:Novika + Mr. Lex x Prozak 2.0
DESCRIPTION:Gdy Kasia rozgrzewała parkiety pierwszych polskich klubów\, w
 iększość obecnych aktywnych imprezowiczów przeżywało jeszcze swoje b
 ezgrzeszne lata! Dzisiaj nadal aktywna na scenie muzyki elektronicznej\, w
 ciąż tworząca muzykę na poziomie - taka właśnie jest królowa polski
 ch dyskotek! ?\n\n[-1]\nNOVIKA + Mr. Lex\nDiscox\n\nDo 23:00: wejście FRE
 E dla osób “biorących udział” w wydarzeniu.\nPo 23:00: 10/ 20 PLN.\
 n\n---\n\nWhen Kasia was already heating up stages of the first polish clu
 bs\, most of the active junketeers were still festing on their mother's mi
 lk! Today\, still active on the polish electronic scene\, still making hig
 h-end music - she’s simply the queen of polish disco! ?\n\n[-1]\nNOVIKA 
 + Mr. Lex\nDiscox\n\nFREE ENTRY by 11:00pm from the Facebook “going” l
 ist.\n10/ 20 PLN after 11:00pm.
ATTACH;FMTTYPE=image/jpeg:https://night4u.pl/wp-content/uploads/2019/01/17
 390_image_50886384_2130304190363652_6295623329457897472_o.jpg
CATEGORIES:małopolskie
LOCATION:Prozak 2.0\, Plac Dominikański 6\, Kraków\, 31-032\, Poland
GEO:50.058986;19.938203
X-APPLE-STRUCTURED-LOCATION;VALUE=URI;X-ADDRESS=Plac Dominikański 6\, Krak
 ów\, 31-032\, Poland;X-APPLE-RADIUS=100;X-TITLE=Prozak 2.0:geo:50.058986,
 19.938203
END:VEVENT
BEGIN:VTIMEZONE
TZID:Europe/Warsaw
X-LIC-LOCATION:Europe/Warsaw
BEGIN:STANDARD
DTSTART:20181028T020000
TZOFFSETFROM:+0200
TZOFFSETTO:+0100
TZNAME:CET
END:STANDARD
END:VTIMEZONE
END:VCALENDAR