BEGIN:VCALENDAR
VERSION:2.0
PRODID:-//wp-events-plugin.com//7.2.3.1//EN
TZID:Europe/Warsaw
X-WR-TIMEZONE:Europe/Warsaw
BEGIN:VEVENT
UID:48930@night4u.pl
DTSTART;TZID=Europe/Warsaw:20201203T210000
DTEND;TZID=Europe/Warsaw:20201204T040000
DTSTAMP:20200504T092038Z
URL:https://night4u.pl/wydarzenia/nowa-data-studenckie-wesele-w-klubie-stu
 dio/
SUMMARY:NOWA DATA // Studenckie Wesele w Klubie Studio
DESCRIPTION:Kochani\, w związku z aktualną sytuacją\, przenosimy Studenc
 kie WEsele na 3 grudnia 2020! 😊\n\nNie zabraknie największych taneczny
 ch szlagierów\, weselnych zabaw oraz smacznego poczęstunku. \nNasza stud
 encka Para Młoda zadba o to\, by każdy z Was spędził wieczór w rewela
 cyjnej atmosferze\, którą z pewnością długo będziecie wspominać!
 👰🏼🤵🏼\n\nPodczas imprezy zagra dla Was zespół ROUTE 66 oraz D
 J NAMTEH.\n\nMile widziany strój weselny - panów wpuszczamy tylko w kraw
 acie! 👔\n\n❗️Bilety dostępne już wkrótce w Klub Studio\, Klub Fi
 lutek oraz Klub Gwarek ❗️
ATTACH;FMTTYPE=image/jpeg:https://night4u.pl/wp-content/uploads/2020/04/16
 7665_image_93968595_3101203636566314_1164988614656917504_o.jpg
CATEGORIES:małopolskie
LOCATION:Klub Studio\, Budryka 4\, Kraków\, 30-072\, Poland
GEO:50.068057;19.908264
X-APPLE-STRUCTURED-LOCATION;VALUE=URI;X-ADDRESS=Budryka 4\, Kraków\, 30-07
 2\, Poland;X-APPLE-RADIUS=100;X-TITLE=Klub Studio:geo:50.068057,19.908264
END:VEVENT
BEGIN:VTIMEZONE
TZID:Europe/Warsaw
X-LIC-LOCATION:Europe/Warsaw
BEGIN:STANDARD
DTSTART:20201025T020000
TZOFFSETFROM:+0200
TZOFFSETTO:+0100
TZNAME:CET
END:STANDARD
END:VTIMEZONE
END:VCALENDAR