BEGIN:VCALENDAR
VERSION:2.0
PRODID:-//wp-events-plugin.com//7.2.3.1//EN
TZID:Europe/Warsaw
X-WR-TIMEZONE:Europe/Warsaw
BEGIN:VEVENT
UID:2029@night4u.pl
DTSTART;TZID=Europe/Warsaw:20190120T190000
DTEND;TZID=Europe/Warsaw:20190120T203000
DTSTAMP:20181231T132908Z
URL:https://night4u.pl/wydarzenia/nowy-korpo-story-2b-teatr-xl-niebo-20-st
 ycznia-2019-g-19/
SUMMARY:Nowy! KORPO STORY 2b TEATR XL Niebo 20 stycznia 2019 g.19
DESCRIPTION:CO? KORPO STORY 2B\nGDZIE? TEATR XL w Niebie (Nowy Świat 21)\n
 KIEDY? 20 stycznia 2019 g.19\nbilety:teatrxl.com\n\n"Rozpaczliwie zależa
 ło jej na tym\, by zmienić coś w swym życiu\, jednocześnie zaś była
  wybredna." *. I wtedy otworzyły się wrota\, które kryły morze niesko
 ńczonych perspektyw! Wystarczyło przejść rekrutację\, by wyzwolić si
 ę z jarzma nudnych i przewidywalnych dni. Wskazano jej cel\, który był 
 jedyną nadzieją na lepsze życie. Ona tego potrzebowała - by cel jakiko
 lwiek mieć. By nadać sobie sens. By spróbować być kimś. By w ogóle 
 istnieć. \nZaślepiona celem\, który ma odmienić jej życie\, nie będz
 ie zwracać uwagi na idiotyzmy sytuacji\, traktując je jako wysokiej rang
 i "kejsy" i posłusznie wykona je dla swojej korporacji. Kiedy praca jest 
 życiem\, nie tak łatwo dostrzec absurd\, który stopniowo narasta. I jak
  ta gotowana żaba\, co to nie wyskoczy z garnka z gotującą się wodą\,
  da się powoli doić. \nKorpo machina działając powolutku\, ale skutecz
 nie\, otrzyma jej niewypowiedzianą zgodę na dodawanie obowiązków. Bez 
 końca.\n\n*Charles Bukowski\, Faktotum \n\nAutor i dramaturg: Przemysław
  Kazusek\nReżyseria i adaptacja: Andre de la Cruz\nWystępują: \n2B: Dia
 na Karamon\,\n4A\, Przewodniczka wycieczki\, Paul\, Teściowa: Izabela Gó
 rska\,\n3H\, Pani Basia\, Rabbit: Sandra Stencel\,\nAsystentka Szefa: Alek
 sandra Walusiak\,\n1Z\, Człowiek Skaner\, Mąż: Grzegorz Jarek\,\nGłos 
 z reklamy: Magdalena Łoś\,\nSzef\, Synek : Zbigniew Pożoga.\nProjekt pl
 akatu: Magdalena Łoś\nKoncepcja kostiumów: Zuzanna Sapeta\nKonsultacje 
 scenograficzne: Zuzanna Sapeta\nKierownictwo produkcji: Diana Karamon
ATTACH;FMTTYPE=image/jpeg:https://night4u.pl/wp-content/uploads/2018/12/80
 71_image_48364458_1981632138589732_5151659516017770496_o.jpg
CATEGORIES:mazowieckie
LOCATION:TEATR XL\, Plac Hallera 5\, Warsaw\, 03-464\, Poland
GEO:52.232202;21.019914
X-APPLE-STRUCTURED-LOCATION;VALUE=URI;X-ADDRESS=Plac Hallera 5\, Warsaw\, 0
 3-464\, Poland;X-APPLE-RADIUS=100;X-TITLE=TEATR XL:geo:52.232202,21.019914
END:VEVENT
BEGIN:VTIMEZONE
TZID:Europe/Warsaw
X-LIC-LOCATION:Europe/Warsaw
BEGIN:STANDARD
DTSTART:20181028T020000
TZOFFSETFROM:+0200
TZOFFSETTO:+0100
TZNAME:CET
END:STANDARD
END:VTIMEZONE
END:VCALENDAR