BEGIN:VCALENDAR
VERSION:2.0
PRODID:-//wp-events-plugin.com//7.2.3.1//EN
TZID:Europe/Warsaw
X-WR-TIMEZONE:Europe/Warsaw
BEGIN:VEVENT
UID:1465@night4u.pl
DTSTART;TZID=Europe/Warsaw:20190105T220000
DTEND;TZID=Europe/Warsaw:20190106T050000
DTSTAMP:20190206T194149Z
URL:https://night4u.pl/wydarzenia/nowy_techno_rok-%e2%96%82-dtekk-x-chinas
 ki/
SUMMARY:Nowy_TECHNO_rok ▂ Dtekk x Chinaski
DESCRIPTION:W 2019 @ DK nadal planuje prezentować\, to co najlepsze na sce
 nie elektronicznej. Zaczynamy spotkaniem dwóch kolegów\, świetnych prom
 otorów i znawców elektroniki. \n\n▬ Dtekk (Up To Date Festival) ▬ \n
 ⚡️ \n▬ Chinaski (Prepar) ▬ \n⚡️ \n\nstart 22:00 \nFb free 23:0
 0 \nBilet 15 zł \nWstęp + 21
ATTACH;FMTTYPE=image/jpeg:https://night4u.pl/wp-content/uploads/2018/12/68
 21_image_48372931_2162715823794376_108085733926895616_o.jpg
CATEGORIES:lubelskie
LOCATION:Dom Kultury\, ul. Krakowskie Przedmieście 19\, Lublin\, 20-002\, 
 Poland
GEO:51.24787;22.56342
X-APPLE-STRUCTURED-LOCATION;VALUE=URI;X-ADDRESS=ul. Krakowskie Przedmieści
 e 19\, Lublin\, 20-002\, Poland;X-APPLE-RADIUS=100;X-TITLE=Dom Kultury:geo
 :51.24787,22.56342
END:VEVENT
BEGIN:VTIMEZONE
TZID:Europe/Warsaw
X-LIC-LOCATION:Europe/Warsaw
BEGIN:STANDARD
DTSTART:20181028T020000
TZOFFSETFROM:+0200
TZOFFSETTO:+0100
TZNAME:CET
END:STANDARD
END:VTIMEZONE
END:VCALENDAR