BEGIN:VCALENDAR
VERSION:2.0
PRODID:-//wp-events-plugin.com//7.2.3.1//EN
TZID:Europe/Warsaw
X-WR-TIMEZONE:Europe/Warsaw
BEGIN:VEVENT
UID:30661@night4u.pl
DTSTART;TZID=Europe/Warsaw:20191018T223000
DTEND;TZID=Europe/Warsaw:20191019T073000
DTSTAMP:20191018T105441Z
URL:https://night4u.pl/wydarzenia/nu-discotech-x-prozak-2-0-6/
SUMMARY:Nu discoTECH x Prozak 2.0
DESCRIPTION:Piętnasta już odsłona serii dwóch młodych rezydentów 2.0\
 , podczas której scena -2 wypełni się dźwiękami melodyjnego synth-pop
 ’u ze słyszalnymi wpływami nowej fali muzyki lat 80-tych\, francuskieg
 o house’u czy chill-wave’u. Nie zabraknie również tego\, na co wszys
 cy czekacie: nu-disco w najlepszym wydaniu 💃 Jesteście gotowi na kolej
 ną podróż?\n\n[-2] Nu discoTECH\nMatthew Ka\nOscar Thous\n\nDo 23:00: w
 ejście FREE dla osób “biorących udział” w wydarzeniu.\nPo 23:00: 2
 0/ 30 PLN.\n\n---\n\nThe 13th edition of Nu discoTECH of two young 2.0 res
 idents\, series filled with sounds like melodic synth-pop\, french house o
 r chillwave. There will be also something\, that we all wait for: nu-disco
  from the best! 💃 Are you ready for another trip?\n\n[-2] Nu discoTECH\
 nMatthew Ka\nOscar Thous\n\nBy 11:00pm: FREE entry for Facebook “going
 ” list.\nAfter 11:00pm: 20/ 30 PLN.
ATTACH;FMTTYPE=image/jpeg:https://night4u.pl/wp-content/uploads/2019/10/70
 677_image_71402679_2530421413685259_7126949446855688192_o.jpg
CATEGORIES:małopolskie
LOCATION:Prozak 2.0\, Plac Dominikański 6\, Kraków\, 31-032\, Poland
GEO:50.058986;19.938203
X-APPLE-STRUCTURED-LOCATION;VALUE=URI;X-ADDRESS=Plac Dominikański 6\, Krak
 ów\, 31-032\, Poland;X-APPLE-RADIUS=100;X-TITLE=Prozak 2.0:geo:50.058986,
 19.938203
END:VEVENT
BEGIN:VTIMEZONE
TZID:Europe/Warsaw
X-LIC-LOCATION:Europe/Warsaw
BEGIN:DAYLIGHT
DTSTART:20190331T030000
TZOFFSETFROM:+0100
TZOFFSETTO:+0200
TZNAME:CEST
END:DAYLIGHT
END:VTIMEZONE
END:VCALENDAR