BEGIN:VCALENDAR
VERSION:2.0
PRODID:-//wp-events-plugin.com//7.2.3.1//EN
TZID:Europe/Warsaw
X-WR-TIMEZONE:Europe/Warsaw
BEGIN:VEVENT
UID:5707@night4u.pl
DTSTART;TZID=Europe/Warsaw:20190201T223000
DTEND;TZID=Europe/Warsaw:20190202T073000
DTSTAMP:20190131T143300Z
URL:https://night4u.pl/wydarzenia/nu-discotech-x-prozak-2-0/
SUMMARY:NU discoTECH x Prozak 2.0
DESCRIPTION:Ósma już odsłona serii\, podczas której scena -2 wypełni s
 ię dźwiękami melodyjnego synth-pop’u ze słyszalnymi wpływami nowej 
 fali muzyki lat 80-tych\, francuskiego house’u czy chill-wave’u. Nie z
 abraknie również tego\, na co wszyscy czekacie: nu-disco w najlepszym wy
 daniu ? Jesteście gotowi na kolejną podróż?\n\nPromo 2.0:\nDo 24:00 pi
 wo lane 0.5l za 3zł!\n\n[-2] NU discoTECH\nMatthew Ka\nDiscox\n\nDo 23:00
 : wejście FREE dla osób “biorących udział” w wydarzeniu.\nDo 24:00
 : 15 PLN.\nPo 24:00: 20/ 25 PLN.\n\n---\n\nThe 8th edition of Nu discoTECH
 \, series filled with sounds like melodic synth-pop\, french house or chil
 lwave. There will be also something\, that we all wait for: nu-disco from 
 the best! ? Are you ready for another trip?\n\n[-2] NU discoTECH\nMatthew 
 Ka\nDiscox\n\nBy 11pm: FREE entry for Facebook “going” list.\nBy 12am:
  15 PLN.\nAfter 12am: 20/ 25 PLN.
ATTACH;FMTTYPE=image/jpeg:https://night4u.pl/wp-content/uploads/2019/01/17
 372_image_51334948_2126381847422553_4429068303968763904_o.jpg
CATEGORIES:małopolskie
LOCATION:Prozak 2.0\, Plac Dominikański 6\, Kraków\, 31-032\, Poland
GEO:50.058986;19.938203
X-APPLE-STRUCTURED-LOCATION;VALUE=URI;X-ADDRESS=Plac Dominikański 6\, Krak
 ów\, 31-032\, Poland;X-APPLE-RADIUS=100;X-TITLE=Prozak 2.0:geo:50.058986,
 19.938203
END:VEVENT
BEGIN:VTIMEZONE
TZID:Europe/Warsaw
X-LIC-LOCATION:Europe/Warsaw
BEGIN:STANDARD
DTSTART:20181028T020000
TZOFFSETFROM:+0200
TZOFFSETTO:+0100
TZNAME:CET
END:STANDARD
END:VTIMEZONE
END:VCALENDAR