BEGIN:VCALENDAR
VERSION:2.0
PRODID:-//wp-events-plugin.com//7.2.3.1//EN
TZID:Europe/Warsaw
X-WR-TIMEZONE:Europe/Warsaw
BEGIN:VEVENT
UID:5703@night4u.pl
DTSTART;TZID=Europe/Warsaw:20190222T220000
DTEND;TZID=Europe/Warsaw:20190223T040000
DTSTAMP:20190131T143257Z
URL:https://night4u.pl/wydarzenia/nwj-knights-vol2-x-paul-malkinsky-x-papi
 -2/
SUMMARY:NWJ Knights vol2 x Paul Malkinsky x Papi #2
DESCRIPTION:Czy w Krakowie wszystko już było\, a każdy piątek wygląda 
 tak samo? Czasami zapominacie gdzie jesteście bo muzyka jest "taka jak ws
 zędzie"? Chcielibyście coś zmienić? Jeśli chociaż raz odpowiedzieli
 ście "tak" to trafiliście w odpowiednie miejsce! ?\n\nDreams Music Club 
 zaprasza na kolejna z niesamowitego cyku imprez pod patronatem Wielkie Jo
 ł! Po raz kolejny zagra szeroko znanej (nie tylko krakowskiej) publiczno
 ści DJ PAPI KRK w duecie z dj #NWJ! ??\n\nTego jeszcze Kraków nie widzia
 ł! Wznosimy clubbing na wyższy poziom łącząc muzykę house z z Hip-Ho
 p i RnB na jednym parkiecie tylko u Nas. ??\n\nGwarantujemy imprezę do ra
 na przy zimnym alkoholu i gorących dziewczynach.????\n\nDJ PAPI KRK house
 \nPaul Malkinsky hip-hop/RnB\n\nWstęp z lista fb oraz kartami klubowymi d
 o 23:30 free/ after 10 zł \n\nRezerwacje +48 516 390 981\, +48 511 935 66
 0 lub biuro@dreamsmusicclub.pl\n_____________________\nKlub zastrzega sobi
 e prawo do selekcji gości i może odmówić wstępu bez podania przyczyny
 . Wstęp tylko dla osób pełnoletnich.\nwww.dreamsmusicclub.pl
ATTACH;FMTTYPE=image/jpeg:https://night4u.pl/wp-content/uploads/2019/01/17
 359_image_51499951_2139458959433735_5508593894138314752_o.jpg
CATEGORIES:małopolskie
LOCATION:Dreams Music Club\, Jagiellońska 5\, Kraków\, 31-010\, Poland
GEO:50.06276;19.93504
X-APPLE-STRUCTURED-LOCATION;VALUE=URI;X-ADDRESS=Jagiellońska 5\, Kraków\,
  31-010\, Poland;X-APPLE-RADIUS=100;X-TITLE=Dreams Music Club:geo:50.06276
 ,19.93504
END:VEVENT
BEGIN:VTIMEZONE
TZID:Europe/Warsaw
X-LIC-LOCATION:Europe/Warsaw
BEGIN:STANDARD
DTSTART:20181028T020000
TZOFFSETFROM:+0200
TZOFFSETTO:+0100
TZNAME:CET
END:STANDARD
END:VTIMEZONE
END:VCALENDAR