BEGIN:VCALENDAR
VERSION:2.0
PRODID:-//wp-events-plugin.com//7.2.3.1//EN
TZID:Europe/Warsaw
X-WR-TIMEZONE:Europe/Warsaw
BEGIN:VEVENT
UID:51811@night4u.pl
DTSTART;TZID=Europe/Warsaw:20241231T210000
DTEND;TZID=Europe/Warsaw:20250101T050000
DTSTAMP:20241220T211531Z
URL:https://night4u.pl/wydarzenia/nye-2024-wtorek-31-12-bilety-juz-od-200-
 pln/
SUMMARY:NYE 2024 // Wtorek 31.12 // Bilety już od 200 PLN!
DESCRIPTION:JESTEŚ ZAINTERESOWANY/A OFERTĄ? WEJŚCIÓWKĘ MOŻESZ ZAKUPI
 Ć W KLUBIE PODCZAS NADCHODZĄCYCH IMPREZ (PIĄTKI I SOBOTY OD 21:00)!\n\n
 https://krakow.shineclub.com.pl/sylwester2024/\n\nStart sprzedaży: 17/11/
 2023 (Piątek)\nARE YOU INTERESTED IN OUR OFFER? TICKETS ARE AVAILABLE FOR
  PURCHASE DURING OUR WEEKLY EVENTS (FRIDAYS AND SATURDAYS FROM 9:00 P.M.)\
 n\nTickets starting from: 17/11/2023 (Friday)\n[ENGLISH VERSION BELOW]\n\n
 https://krakow.shineclub.com.pl/sylwester2024/\n\nKończący się rok 2024
  obfitował w wiele świetnych imprez i wydarzeń\, których nie zapomnimy
  jeszcze przez długi czas! Co roku Sylwestrowe szaleństwo jest zwieńcze
 niem udanego sezonu i zaproszeniem na kolejny. Tak więc daj ponieść si
 ę zabawie i wybierz się na Sylwestra przy Starowiślnej 16!\n\n✘ ATRAK
 CJE ✘\n- Wyjątkowy wystrój lokalu\n- fotobudka\n- 2 sale muzyczne:\nMA
 INSTAGE - house/club/black/r'n'b\nLATIN STAGE (miejsca VIP - parkiet otwar
 ty dla wszystkich) - latino\n\n✘ BILETY ✘\n1) BILETY Z MIEJSCEM SIEDZ
 ĄCYM:\n✪ MAINSTAGE+ANTRESOLA+GOLD STAGE:\n- 350PLN/osoba\n✪ LATIN STA
 GE (strefa VIP):\n- 390PLN/osoba\nIstnieje możliwość rezerwacji stolik
 ów: 4\, 6\, 8\, 10\, 12 i 14 osobowych!\n\n✔ W CENIE BILETU:\n- MIEJSCE
  SIEDZĄCE\n- catering\n- wódka FINLANDIA (uzależniona od wielkości sto
 lika):\n★ do stolika 4os. - 1 but. 0\,5L + 1L soku/napoju + 1 but. szamp
 ana G.H. Mumm\n★ do stolika 6os. - 1 but. 0\,7L + 2L soku/napoju + 1 but
 . szampana G.H. Mumm\n★ do stolika 8os. - 2 but. 0\,5L + 2L soku/napoju 
 + 2 but. szampana G.H. Mumm\n★ do stolika 10os. - 1 but. 0\,5L + 1 but. 
 0\,7L + 3L soku/napoju + 2 but. szampana G.H. Mumm\n★ do stolika 12os. -
  2 but. 0\,7L + 4L soku/napoju + 2 but. szampana G.H. Mumm\n★ do stolika
  14os. - 2 but. 0\,5L + 1 but. 0\,7L + 4L soku/napoju + 3 but. szampana G.
 H. Mumm\n\n2) BILETY BEZ MIEJSCA SIEDZĄCEGO:\n- 200PLN/osoba - przy zakup
 ie do 30/12/2023\n- 250PLN/osoba - przy zakupie w dniu imprezy.\n\n✔ W C
 ENIE BILETU:\n- MIEJSCE STOJĄCE\n- catering\n- butelka mini-szampana o p
 ółnocy\n✘ CATERING (w postaci szwedzkich stołów) ✘\n- Chili Con Ca
 rne z nachosami\n- Stripsy z kurczaka z sosem BBQ\n- Żółte warzywne cur
 ry z tofu\n- Ryż / Frytki / Pieczone ziemniaki\n- Panna cotta z musem mal
 inowym\n- Szarlotka\n- Kawa / herbata\n\nSPRZEDAŻ BILETÓW TYLKO W KLUBIE
 !\nPŁATNOŚĆ TYLKO GOTÓWKĄ!\nWIĘCEJ INFORMACJI UZYSKASZ POD NUMEREM T
 ELEFONU: 725-700-225 / (Poniedziałek - Sobota\, 15:00 do 19:00)\n\nhttps:
 //krakow.shineclub.com.pl/sylwester2024/\n\n[ENGLISH VERSION]\n\n✘ ATTRA
 CTIONS ✘\n- Unique interior design\n- Photo Booth\n- 2 dancefloors:\nMAI
 NSTAGE - house/club/black/r'n'b\nLATIN STAGE (VIP seats - dancefloor open 
 for everyone) - latino\n✘ TICKETS ✘\n1) TICKETS WITH SEATING:\n✪ MAI
 NSTAGE+BALCONY+GOLD STAGE:\n- 350PLN/person\n✪ LATIN STAGE (VIP area):\n
 - 390PLN/person\nYou can book tables for: 4\, 6\, 8\, 10\, 12 or 14 person
 s.\n\n✔ PRICE INCLUDING:\n- SEATING\n- catering\n- FINLANDIA vodka (quan
 tity depends on the size of the table):\n★ 4 persons table - 1x0\,5L bot
 tle + 1L of soft + 1 bottle champane G.H. Mumm\n★ 6 persons table. - 1x0
 \,7L bottle + 2L of softs\n+ 1 bottle champane G.H. Mumm\n★ 8 persons ta
 ble - 2x0\,5L bottle + 2L of softs + 2 bottle champane G.H. Mumm\n★ 10 p
 ersons table - 1x0\,5L bottle + 1x0\,7L bottle + 3L of softs + 2 bottle ch
 ampane G.H. Mumm\n★ 12 persons table - 2x0\,7L bottle + 4L of softs + 2 
 bottle champane G.H. Mumm\n★ 14 persons table - 2x0\,5L bottle + 1x0\,7L
  bottle + 4L of softs + 3 bottle champane G.H. Mumm\n\n2) STANDING TICKETS
 :\n- 200PLN/person - till 30/12/2023\n- 250PLN/person - on NYE\n\n✔ PRIC
 E INCLUDING:\n- STANDING PLACE\n- catering\n- mini-champagne bottle at mid
 night\n✘ CATERING (hot&amp\;cold buffet) ✘\n- Chili Con Carne with nac
 hos\n- Chicken strips with BBQ sauce\n- Yellow vegetable curry with tofu\n
 - Rice / French fries / Baked potatoes\n- Panna cotta with raspberry mouss
 e\n- Apple pie\n- Coffee / Tea\n\nTICKETS AVAILABLE ONLY IN THE BOX OFFICE
 !\nPAYMENT ONLY IN CASH.\nYOU CAN GET MORE INFO BY CALLING: (+48) 725-700-
 225 / (Monday - Saturday\, 15:00-19:00)\n\nhttps://krakow.shineclub.com.pl
 /sylwester2024/
ATTACH;FMTTYPE=image/jpeg:https://night4u.pl/wp-content/uploads/2024/12/NY
 E-2024-Wtorek-31.12-Bilety-juz-od-200-PLN.jpg
CATEGORIES:małopolskie
LOCATION:Starowiślna 16\, 31-032 Kraków\, Poland\, Starowiślna 16\, 31-0
 32 Kraków\, Poland\, 
X-APPLE-STRUCTURED-LOCATION;VALUE=URI;X-ADDRESS=Starowiślna 16\, 31-032 Kr
 aków\, Poland\, ;X-APPLE-RADIUS=100;X-TITLE=Starowiślna 16\, 31-032 Krak
 ów\, Poland:geo:0,0
END:VEVENT
BEGIN:VTIMEZONE
TZID:Europe/Warsaw
X-LIC-LOCATION:Europe/Warsaw
BEGIN:STANDARD
DTSTART:20241027T020000
TZOFFSETFROM:+0200
TZOFFSETTO:+0100
TZNAME:CET
END:STANDARD
END:VTIMEZONE
END:VCALENDAR