BEGIN:VCALENDAR
VERSION:2.0
PRODID:-//wp-events-plugin.com//7.2.3.1//EN
TZID:Europe/Warsaw
X-WR-TIMEZONE:Europe/Warsaw
BEGIN:VEVENT
UID:39730@night4u.pl
DTSTART;TZID=Europe/Warsaw:20191226T220000
DTEND;TZID=Europe/Warsaw:20191227T050000
DTSTAMP:20191226T042817Z
URL:https://night4u.pl/wydarzenia/o-choinka-26-12-w-sq-klub/
SUMMARY:O Choinka! | 26.12 w SQ klub
DESCRIPTION:Nie ma świąt bez O choinki!\n\n„O\, Choinka!” jest dla im
 prezowych tradycjonalistów tym\, czym zielone drzewko dla amatorów kolę
 d. To symbol\, to nieodłączna część swiąt\, to uśmiechy na twarzach
 . Aby tradycji stało się zadość (spotykamy się 14. rok z rzędu!)\, i
  w tym roku tańczcie\, bawcie się\, śpiewajcie z nami! W czwartek\, dru
 giego dnia świąt w klubie SQ!\n\nGramy muzyczne creme de la creme z wete
 ranem poznańskiej sceny klubowej -Wookiem- \, któremu towarzyszyć będz
 ie Jacob A na wokalu\, Matthew Clarck oraz na chilloucie Creamer. \n\n\nHo
  ho ho!\n\n\n***********\n\n26.12 (czw) O CHOINKA!\n\nJacob A VOCAL\n\nDJ 
 WOOKIE - pussydog.pl\n\nMatthew Clarck\n\nCreamer - Tomasz Kramer\n\n\nsta
 rt: 22:00\n\n\nbilety: 25 zł do 23:30 / 30 zł. po 23:30 \n\nkarty klubow
 e free do 23:00
ATTACH;FMTTYPE=image/jpeg:https://night4u.pl/wp-content/uploads/2019/12/11
 7950_image_78882029_10158019749177940_5652242116189880320_o.jpg
CATEGORIES:wielkopolskie
LOCATION:SQ klub\, Poznan\, Poland
GEO:52.40174;16.926687
X-APPLE-STRUCTURED-LOCATION;VALUE=URI;X-ADDRESS=Poznan\, Poland;X-APPLE-RAD
 IUS=100;X-TITLE=SQ klub:geo:52.40174,16.926687
END:VEVENT
BEGIN:VTIMEZONE
TZID:Europe/Warsaw
X-LIC-LOCATION:Europe/Warsaw
BEGIN:STANDARD
DTSTART:20191027T020000
TZOFFSETFROM:+0200
TZOFFSETTO:+0100
TZNAME:CET
END:STANDARD
END:VTIMEZONE
END:VCALENDAR