BEGIN:VCALENDAR
VERSION:2.0
PRODID:-//wp-events-plugin.com//7.2.3.1//EN
TZID:Europe/Warsaw
X-WR-TIMEZONE:Europe/Warsaw
BEGIN:VEVENT
UID:6090@night4u.pl
DTSTART;TZID=Europe/Warsaw:20190227T220000
DTEND;TZID=Europe/Warsaw:20190301T010000
DTSTAMP:20190201T053559Z
URL:https://night4u.pl/wydarzenia/oblej-sesje-ii-3-kluby-ii-3-dni-studenck
 iego-szalenstwa/
SUMMARY:Oblej Sesję II 3 kluby II 3 dni studenckiego szaleństwa
DESCRIPTION:[ENGLISH BELOW]\nJuż po raz kolejny Uczelniana Rada Samorządu
  Studentów Uniwersytetu Łódzkiego oraz ESN UŁ organizuje imprezę OBLE
 J SESJĘ!\n\nTym razem stwierdziliśmy\, że jeden dzień oblewania sesji 
 to dla studenta zdecydowanie za mało ?\n\nTrzy dni imprezowego szaleństw
 a w najlepszych łódzkich klubach w Łodzi! Trzy odmienne style muzyczne!
  Trzy niezapominane noce! Szykujcie się!\n\nZbieraj pieczątki z każdego
  klubu na zaproszeniu a kolejne wejście na imprezę będzie o 5 zł tańs
 ze wraz z darmowym drinkiem do odbioru na barze! Dla najbardziej wytrwały
 ch imprezowiczów kluby przygotowały nagrody! Za trzy pieczątki zebrane 
 na zaproszeniu otrzymacie DARMOWĄ rezerwację oraz schłodzony trunek do 
 odbioru DO KOŃCA SEMESTRU AKADEMICKIEGO! ?\n\nROZKŁAD OBLEJ SESJĘ (star
 t: 22:00):\n\nŚRODA - 27 luty - Prywatka \n? Disco & Dance\, Pop 80' - 10
 ' & Legendarne Polskie Przeboje\n\nCZWARTEK - 28 luty - Lordi's Club\n? Ho
 use/EDM\n\nPIĄTEK - 1 marca -  Abracadabra da Club & SODA Underground Sta
 ge\n?RnB / Techno / Deep House\n\nWejście (zaproszenia/wlotki*):\n1️⃣
  wejście - 10 zł w tym drink w cenie\n2️⃣ wejście - 5 zł w tym dri
 nk w cenie\n3️⃣ wejście - 0 zł w tym drink GRATIS\nℹ️ Bez zapros
 zenia: 10 zł\n*zaproszenia/wlotki będą rozdawane przez Wydziałowe Rady
  Samorządu Studentów UŁ\, ESN UŁ oraz przez ambasadorów poszczególny
 ch klubów\n______________________________________\nStudents' Union togeth
 er with University of Lodz and Erasmus Student Network Uniwersytet Łódzk
 i are hosting the biggest NEW ACADEMIC SEMESTER PARTY!\n\nWe all know that
  one day party is not enough for a STUDENT!\n\nPrepare yourself for three 
 days of party in the best Lodz nightclubs! Three different music style! Th
 ree unforgettable nights! Check it out!\n\nCollect stamps from each club o
 n invitations and you will get a 5 zł discount on next day party and a fr
 ee drink on the bar!\nFor those who collect all three stamps\, the clubs p
 repared a special prize - a FREE reservation and frozen bottle to receive 
 until END OF SEMESTER! ?\n\nSCHEDULE OF OBLEJ SESJĘ (start: 10:00 PM):\n\
 nWEDNESDAY - 27th Feb - Prywatka\n? Disco & Dance\, Pop 80' - 10'\n\nTHURS
 DAY - 28th Feb- Lordi's Club\n? House/EDM\n\nFRIDAY - 1st March -  Abracad
 abra da Club & SODA Underground Stage\n?RnB / Techno / Deep House\n\nEntra
 nce (invitations*):\n1️⃣ entrance - 10 zł with a drink included\n2️
 ⃣ entrance - 5 zł with a drink included\n3️⃣ entrance - 0 zł with 
 a drink included\nℹ️ without invitation: 10 zł\n*invitations can be c
 ollected from Students Council's members\, Erasmus Student Network members
  and from club promoters
ATTACH;FMTTYPE=image/jpeg:https://night4u.pl/wp-content/uploads/2019/02/18
 220_image_51088009_2558736134153109_6452002453050097664_o.jpg
CATEGORIES:łódzkie
LOCATION:Prywatka\, Andrzeja Struga 8/10\, Łódź\, 90-426\, Poland
GEO:51.765118;19.455113
X-APPLE-STRUCTURED-LOCATION;VALUE=URI;X-ADDRESS=Andrzeja Struga 8/10\, Łó
 dź\, 90-426\, Poland;X-APPLE-RADIUS=100;X-TITLE=Prywatka:geo:51.765118,19
 .455113
END:VEVENT
BEGIN:VTIMEZONE
TZID:Europe/Warsaw
X-LIC-LOCATION:Europe/Warsaw
BEGIN:STANDARD
DTSTART:20181028T020000
TZOFFSETFROM:+0200
TZOFFSETTO:+0100
TZNAME:CET
END:STANDARD
END:VTIMEZONE
END:VCALENDAR