BEGIN:VCALENDAR
VERSION:2.0
PRODID:-//wp-events-plugin.com//7.2.3.1//EN
TZID:Europe/Warsaw
X-WR-TIMEZONE:Europe/Warsaw
BEGIN:VEVENT
UID:46557@night4u.pl
DTSTART;TZID=Europe/Warsaw:20200226T180000
DTEND;TZID=Europe/Warsaw:20200226T210000
DTSTAMP:20200226T091404Z
URL:https://night4u.pl/wydarzenia/obok-michal-brzozowski/
SUMMARY:Obok - Michał Brzozowski
DESCRIPTION:Obok\nNowy tomik poezji Michał Brzozowskiego\n\nWydawca i wsp
 ółorganizator spotkania: \nWydawnictwo Akademickie SEDNO\, Warszawa\n\nZ
 apraszamy na spotkanie autorskie Michała Brzozowskiego\, związane z prem
 ierą nowej książki poetyckiej autora.\nSpotkanie poprowadzi dr Dominika
  Łarionow.\n\nMichał Brzozowski jest poetą\, grafikiem\, księgarzem-wy
 dawcą i muzykiem. Wspólnym mianownikiem dla wszystkiego\, co robi\, są 
 książki. W 1985 r. zaczął pracować jako księgarz – prowadził ksi
 ęgarnie i klubokawiarnie. Od wielu lat zajmuje się grafiką wydawniczą\
 , tworząc okładki książek i płyt. Od czasu do czasu wydaje audiobooki
  ze światową prozą\, do których pisze muzykę. Są to propozycje noweg
 o odczytania nieoczywistych tekstów w interpretacji świetnych aktorów. 
 W ubiegłym roku Teatr Wielki w Łodzi wystawił spektakl baletowy „Faus
 tus” z jego muzyką\, w którym artysta zadebiutował jako improwizując
 y pianista. Do tej pory nagrał dwie płyty muzyczne – „Sleepy forest
 ” i „Sleepy garden”\nOpublikował tomy poezji: „Kefas”(1990\, Pu
 sty Obłok)\, „Kain” (1995\, Cyklady)\, „Jutrznia” (1997\, Cyklady
 )\, Kuszenie (2006\, Muza) oraz obecnie: „Obok” (2019\, Sedno)\n\n- ws
 tęp wolny - \n\nZapraszamy
ATTACH;FMTTYPE=image/jpeg:https://night4u.pl/wp-content/uploads/2020/02/15
 2656_image_84358951_2865027986918754_5836356901629067264_o.jpg
CATEGORIES:łódzkie
LOCATION:6 dzielnica\, Piotrkowska 102\, Łódź\, 90-005\, Poland
GEO:51.765029;19.457371
X-APPLE-STRUCTURED-LOCATION;VALUE=URI;X-ADDRESS=Piotrkowska 102\, Łódź\,
  90-005\, Poland;X-APPLE-RADIUS=100;X-TITLE=6 dzielnica:geo:51.765029,19.4
 57371
END:VEVENT
BEGIN:VTIMEZONE
TZID:Europe/Warsaw
X-LIC-LOCATION:Europe/Warsaw
BEGIN:STANDARD
DTSTART:20191027T020000
TZOFFSETFROM:+0200
TZOFFSETTO:+0100
TZNAME:CET
END:STANDARD
END:VTIMEZONE
END:VCALENDAR