BEGIN:VCALENDAR
VERSION:2.0
PRODID:-//wp-events-plugin.com//7.2.3.1//EN
TZID:Europe/Warsaw
X-WR-TIMEZONE:Europe/Warsaw
BEGIN:VEVENT
UID:26823@night4u.pl
DTSTART;TZID=Europe/Warsaw:20191102T200000
DTEND;TZID=Europe/Warsaw:20191102T220000
DTSTAMP:20191102T082210Z
URL:https://night4u.pl/wydarzenia/ocean-wisdom-2-11-2019-warszawa/
SUMMARY:Ocean Wisdom / 2.11.2019 / Warszawa
DESCRIPTION:Ocean Wisdom\, czyli 26-letni raper pochodzący z londyńskiego
  Camden\, na hip- hopową scenę wbił się dzięki debiutanckiej płycie 
 „Chaos’ 93” w 2016 roku. Complex Magazine okrzyknął go wtedy „pr
 zyszłością brytyjskiego hip- hopu”. Jednym z singli promujących to w
 ydawnictwo jest „Walkin”\, które aktualnie ma ponad 8\,5 miliona wyś
 wietleń na YouTube. Wisdom rapuje tam w tempie 4.45 słów na minutę\, j
 ednocześnie pobijając rekord Eminema\, który w „Rap God” trzyma tem
 po 4.31 słów.\n\nOcean Wisdom - Walkin'\nhttps://www.youtube.com/watch?v
 =r9KxqBiE_YQ&amp\;frags=pl%2Cwn\n\nOcean posiada niesamowite umiejętnośc
 i techniczne\, a także szybkość\, dzięki której zwrócił uwagę śro
 dowiska i został także uznany za jednego z "najszybszych raperów" na ry
 nku. Jego ostatni album „Wizville” (2018) tylko potwierdził talent Wi
 zzy'ego. Krążek przepełniony jest świetnymi bitami od boom- bapu po tr
 ap oraz bezkompromisowym flow. Do pracy nad płytą raper zaprosił reprez
 entantów rodzimego podwórka takich jak Chester P\, Dizzee Rascal!\, czy 
 Roots Manuva\, ale także legendę nowojorskiego hip - hopu Method Man'a.\
 n\nOcean Wisdom - Revvin’ ft Dizzee Rascal! / BBC Radio 1\nhttps://www.y
 outube.com/watch?v=uhnqW_g07IM&amp\;frags=pl%2Cwn\n\nData: 2.11.2019\nDoor
 s: 20:00\nStart: 21:00\nMiejsce: Smolna\n\nBilety dostępne w sprzedaży n
 a stronie https://www.followthestep.com/pl/buy/2151008.\n\nOrganizator: Fo
 llow The Step\nRegulamin: www.followthestep.com/regulamin
ATTACH;FMTTYPE=image/jpeg:https://night4u.pl/wp-content/uploads/2019/09/62
 551_image_69610650_2599338070130224_5469283316903444480_o.jpg
CATEGORIES:mazowieckie
LOCATION:Smolna\, Smolna 38\, Warsaw\, 00-375\, Poland
GEO:52.23265;21.02166
X-APPLE-STRUCTURED-LOCATION;VALUE=URI;X-ADDRESS=Smolna 38\, Warsaw\, 00-375
 \, Poland;X-APPLE-RADIUS=100;X-TITLE=Smolna:geo:52.23265,21.02166
END:VEVENT
BEGIN:VTIMEZONE
TZID:Europe/Warsaw
X-LIC-LOCATION:Europe/Warsaw
BEGIN:STANDARD
DTSTART:20191027T020000
TZOFFSETFROM:+0200
TZOFFSETTO:+0100
TZNAME:CET
END:STANDARD
END:VTIMEZONE
END:VCALENDAR