BEGIN:VCALENDAR
VERSION:2.0
PRODID:-//wp-events-plugin.com//7.2.3.1//EN
TZID:Europe/Warsaw
X-WR-TIMEZONE:Europe/Warsaw
BEGIN:VEVENT
UID:30477@night4u.pl
DTSTART;TZID=Europe/Warsaw:20191031T220000
DTEND;TZID=Europe/Warsaw:20191101T050000
DTSTAMP:20191031T054641Z
URL:https://night4u.pl/wydarzenia/od-wodki-rozum-krotki-wesele-w-halloween
 /
SUMMARY:Od wódki rozum krótki - wesele w Halloween!
DESCRIPTION:Stare ludowe porzekadło.\nTak mawiają nasze mamy i babcie\, a
 le czy mają rację?\nZweryfikujemy to tuż po imprezie \;)\n\nWESELE W HA
 LLOWEEN! \n\nNa parkiecie czekają na Was: pociągi\, kółeczka i kaczusz
 ki.\nO godz. 2:00 kultowe oczepiny.\nPrzez całą noc: szampan\, stolik wi
 ejski i najlepsza muzyka weselna.\n\n♥♥♥♥♥♥♥♥♥♥♥♥
 ♥♥♥♥♥♥♥♥♥♥♥♥\n▬▬▬▬▬▬▬▬▬▬▬▬
 ▬▬▬▬▬▬▬▬▬▬▬▬▬▬▬▬\n\nWstęp:\n[18+] - wył
 ącznie za okazaniem dokumentu tożsamości\n\n22:00-23:00 (Lista Fb) - fr
 ee\nPozostali - 10 PLN\n\nBez stroju formalnego\, ubierz się tak jak Ci w
 ygodnie.\nRzecz jasna nie zakładamy dresów\, bojówek\, itp. strojów\, 
 które zostawiamy sobie na wypad na domek za miasto.\n\n▬▬▬▬▬▬
 ▬▬▬▬▬▬▬▬▬▬▬▬▬▬▬▬▬▬▬▬▬▬\n\nGorz
 ko Gorzko Szczecin to klub\, w którym w każdy Piątek i Sobotę odbywaj
 ą się dyskoteki weselne.\nWodzirej\, fotobudka\, muzyka i zabawy weselne
 \, przekąski oraz powitalny szampan.\nTo tylko część z atrakcji\, któ
 rych u nas doświadczycie.\n\nHej wesele\, hej wesele tańcowało... !
ATTACH;FMTTYPE=image/jpeg:https://night4u.pl/wp-content/uploads/2019/10/70
 203_image_69312480_2209317192529927_2687764403255771136_n.jpg
CATEGORIES:zachodniopomorskie
LOCATION:Gorzko Gorzko Szczecin\, Kardynała Stefana Wyszyńskiego 14\, Szc
 zecin\, 70-001\, Poland
GEO:53.423945;14.552926
X-APPLE-STRUCTURED-LOCATION;VALUE=URI;X-ADDRESS=Kardynała Stefana Wyszyńs
 kiego 14\, Szczecin\, 70-001\, Poland;X-APPLE-RADIUS=100;X-TITLE=Gorzko Go
 rzko Szczecin:geo:53.423945,14.552926
END:VEVENT
BEGIN:VTIMEZONE
TZID:Europe/Warsaw
X-LIC-LOCATION:Europe/Warsaw
BEGIN:STANDARD
DTSTART:20191027T020000
TZOFFSETFROM:+0200
TZOFFSETTO:+0100
TZNAME:CET
END:STANDARD
END:VTIMEZONE
END:VCALENDAR