BEGIN:VCALENDAR
VERSION:2.0
PRODID:-//wp-events-plugin.com//7.2.3.1//EN
TZID:Europe/Warsaw
X-WR-TIMEZONE:Europe/Warsaw
BEGIN:VEVENT
UID:39617@night4u.pl
DTSTART;TZID=Europe/Warsaw:20191229T120000
DTEND;TZID=Europe/Warsaw:20191229T233000
DTSTAMP:20191229T124552Z
URL:https://night4u.pl/wydarzenia/odd-future-vs-wu-tang-legendarne-niedzie
 le-w-praskiej-8/
SUMMARY:Odd Future vs Wu Tang: Legendarne niedziele w Praskiej #8
DESCRIPTION:Legendarne niedziele w Praskiej to cykl muzyczno-kulturalny\, p
 odczas którego będziemy organizować pojedynki dwóch wybranych gwiazd 
 świata muzyki. \n\nNasza lista pojedynkowych przebojów gra od 12 do 14 o
 raz od 18 do 20. W pozostałych godzinach zahaczamy o historię\, wybrane 
 płyty\, nagrania\, współprace - nisko kłaniając się artystom\, któr
 zy budują świat muzyki.  \n\nTym razem przeniesiemy się do świata rapu
 \, usłyszycie Odd Future Wolf Gang Kill Them All oraz Wu Tang Clan. Czy z
 wycięży zachodnie wybrzeże OFWGKTA czy bardziej przypadnie Wam do gustu
  muzyka z ciemnych zakamarków Brooklynu\, tworzona przez grupę Wu Tang? 
 W niedzielę otwarta będzie zabawo-sonda\, a głosy swe można też wyśp
 iewać za barem. \n\nCały dzień będziemy też nagradzać każdy przynie
 siony gadżet związany z tymi artystkami\, każdy winyl\, każdy bilet z 
 koncertu. Dowiecie się też mnóstwo ciekawostek i - w co gorąco wierzym
 y - zaśpiewacie razem z nami! \n\nKażdej niedzieli w naszym lokalu usły
 szycie TYLKO wykonawców z pojedynku "Legendarne niedziele"\, w autorskim 
 zestawieniu utworów i płyt. Płyta za płytę\, przebój za przebój. Ko
 mu kibicujesz?\n\nSzykujemy też niespodzianki\, oczywiście związane z m
 uzyką.\n\nDo usłyszenia i zobaczenia na Brzeskiej 23!
ATTACH;FMTTYPE=image/jpeg:https://night4u.pl/wp-content/uploads/2019/12/11
 7341_image_80411762_2635443829865873_779156816100589568_o.jpg
CATEGORIES:mazowieckie
LOCATION:Praska\, Brzeska 23\, Warsaw\, 03-739\, Poland
GEO:52.252915;21.041359
X-APPLE-STRUCTURED-LOCATION;VALUE=URI;X-ADDRESS=Brzeska 23\, Warsaw\, 03-73
 9\, Poland;X-APPLE-RADIUS=100;X-TITLE=Praska:geo:52.252915,21.041359
END:VEVENT
BEGIN:VTIMEZONE
TZID:Europe/Warsaw
X-LIC-LOCATION:Europe/Warsaw
BEGIN:STANDARD
DTSTART:20191027T020000
TZOFFSETFROM:+0200
TZOFFSETTO:+0100
TZNAME:CET
END:STANDARD
END:VTIMEZONE
END:VCALENDAR