BEGIN:VCALENDAR
VERSION:2.0
PRODID:-//wp-events-plugin.com//7.2.3.1//EN
TZID:Europe/Warsaw
X-WR-TIMEZONE:Europe/Warsaw
BEGIN:VEVENT
UID:20011@night4u.pl
DTSTART;TZID=Europe/Warsaw:20190622T180000
DTEND;TZID=Europe/Warsaw:20190622T230000
DTSTAMP:20190621T201834Z
URL:https://night4u.pl/wydarzenia/off-wianki-przy-pompie-kawiarnia-teatral
 na/
SUMMARY:OFF Wianki przy Pompie / Kawiarnia Teatralna
DESCRIPTION:OFF Radio Kraków po raz kolejny staje się częścią Wianki w
  Krakowie – krakowskiego Święta Muzyki! Tym razem zaszyjemy się w baj
 kowym\, wakacyjnym miejscu nieopodal Kawiarnia Teatralna - na Scenie przy 
 Pompie. Zapraszamy na wieczór z niezwykle różnorodną muzyką: od tanec
 znych setów didżejskich po zaskakujący miks elektroniki z żywymi instr
 umentami – perkusją i harfą. \n\nZagrają: \n● Kroki (materiał z no
 wej płyty!)\n● Fedkowicz Duo\n● Zeu5\n● Eta Hox\n\nWstęp na całe 
 Wianki - Święto Muzyki 2019 wolny!\n\nScenę otworzy swoim występem kra
 kowska DJ-ka Eta Hox. Mocne\, hipnotyczne dźwięki zamieni tym razem na l
 eniwe ambienty\, które wprowadzą nas w klimat wieczorny. Fedkowicz Duo p
 ostawi na eklektyzm. Podczas ich występów muzyka współczesna spotyka s
 ię z energicznymi bitami\, a dźwiękowe impresje zostają poddane elektr
 onicznym przetworzeniom\, które współtworzą wielowymiarowy dźwiękowy
  pejzaż. Prawdziwą mieszankę emocji odczujemy za sprawą zespołu Kroki
 . Inspiracje muzyczne czerpią z jazzu\, soulu\, indie rocka\, a to wszyst
 ko okraszone jest eksperymentalną elektroniką i charakterystycznym głos
 em frontmana. Wieczór zamknie płocki DJ i producent Zeu5\, który zaserw
 uje zestawienie najlepszych płyt deep-techno i dub-tchno\, granych z winy
 la. Jego ostatnia płyta "Rainy" została entuzjastycznie przyjęta przez 
 fanów elektronicznych brzmień\, a każdy występ natychmiast ożywia par
 kiet. \n\nTT:\n18:00-19:00 Eta Hox\n19:00-20:00 Fedkowicz Duo\n20:00-21:00
  Kroki\n21:00-22:00 Zeu5\n\nZapraszamy 
ATTACH;FMTTYPE=image/jpeg:https://night4u.pl/wp-content/uploads/2019/06/48
 132_image_61796342_2231094793653920_628348368170516480_o.jpg
CATEGORIES:małopolskie
LOCATION:Scena przy Pompie\, pl. Św. Ducha 4\, Kraków\, 31-023\, Poland
GEO:50.06329;19.94234
X-APPLE-STRUCTURED-LOCATION;VALUE=URI;X-ADDRESS=pl. Św. Ducha 4\, Kraków\
 , 31-023\, Poland;X-APPLE-RADIUS=100;X-TITLE=Scena przy Pompie:geo:50.0632
 9,19.94234
END:VEVENT
BEGIN:VTIMEZONE
TZID:Europe/Warsaw
X-LIC-LOCATION:Europe/Warsaw
BEGIN:DAYLIGHT
DTSTART:20190331T030000
TZOFFSETFROM:+0100
TZOFFSETTO:+0200
TZNAME:CEST
END:DAYLIGHT
END:VTIMEZONE
END:VCALENDAR