BEGIN:VCALENDAR
VERSION:2.0
PRODID:-//wp-events-plugin.com//7.2.3.1//EN
TZID:Europe/Warsaw
X-WR-TIMEZONE:Europe/Warsaw
BEGIN:VEVENT
UID:11738@night4u.pl
DTSTART;TZID=Europe/Warsaw:20190510T220000
DTEND;TZID=Europe/Warsaw:20190511T050000
DTSTAMP:20190403T193717Z
URL:https://night4u.pl/wydarzenia/oficjalny-spring-melange-w-kmn-eri-at-pa
 tio-lista-fb/
SUMMARY:Oficjalny Spring Melange w/ KMN & ERI at Patio / Lista FB
DESCRIPTION:Melange Szczecin w końcu odwiedza Patio Club! Wpadnij na nasz
 ą imprezę w piątek 10 maja i pokaż innym\, co znaczy #prawdziwazabawa.
  Uwolnij siebie ? i baw się jak należy! ?? ???\n\nCzy zawsze musi być j
 akiś większy powód\, by wyjść na imprezę? Nie dorabiajmy większej t
 eorii... To prostu kolejny dobry piątek razem z Melange Szczecin - a to z
 awsze gwarancja udanej imprezy oraz ...sobotniego kaca...?? ???\n\n? Zagra
 ją ?\n✔ ERI \n✔ KMN\n\nMuzyka: rap\, trap\, classics\, r&b #partylike
 arapstar\n\nFoto: Robię Rzeczy\n\nWstęp:\n10 zł LISTA FB 'wezmę udzia
 ł' do g. 24\n15 zł Pozostali oraz wszyscy po g. 24
ATTACH;FMTTYPE=image/jpeg:https://night4u.pl/wp-content/uploads/2019/04/30
 165_image_55523472_657696004661017_5674020379224440832_o.jpg
CATEGORIES:zachodniopomorskie
LOCATION:Patio Club\, Podgórna 63\, Szczecin\, 70-205\, Poland
GEO:53.42365;14.55395
X-APPLE-STRUCTURED-LOCATION;VALUE=URI;X-ADDRESS=Podgórna 63\, Szczecin\, 7
 0-205\, Poland;X-APPLE-RADIUS=100;X-TITLE=Patio Club:geo:53.42365,14.55395
END:VEVENT
BEGIN:VTIMEZONE
TZID:Europe/Warsaw
X-LIC-LOCATION:Europe/Warsaw
BEGIN:DAYLIGHT
DTSTART:20190331T030000
TZOFFSETFROM:+0100
TZOFFSETTO:+0200
TZNAME:CEST
END:DAYLIGHT
END:VTIMEZONE
END:VCALENDAR