BEGIN:VCALENDAR
VERSION:2.0
PRODID:-//wp-events-plugin.com//7.2.3.1//EN
TZID:Europe/Warsaw
X-WR-TIMEZONE:Europe/Warsaw
BEGIN:VEVENT
UID:34327@night4u.pl
DTSTART;TZID=Europe/Warsaw:20191101T220000
DTEND;TZID=Europe/Warsaw:20191102T050000
DTSTAMP:20191031T074632Z
URL:https://night4u.pl/wydarzenia/oh-la-la-2/
SUMMARY:Oh La La
DESCRIPTION:ENGLISH BELOW*\n\nOh La La to największa impreza w mieście !!
 🔥 Tym razem cofniemy się do lat 90 i pobawimy się do najlepszych hit
 ów z tych lat!\nJuż w weekend wpadamy do Pinokio na najlepsze okazje na 
 barze! 🍻🧨\n***Jager bomba 15 PLN \n***Piwo 5 PLN\n***Loża z flaszka
  i sokiem 130 PLN\nPromocja ważna do godziny 24:00 🔉🔥\nPrzyjdź wcz
 eśniej by ominąć kolejki i zapłacić mniej za wejście. DJ połączy n
 ajlepsze hity w imprezowy mix! \nDress kod zabrania dresów\, żeby zabook
 ować loże skontaktuj się z nami przez Facebook.🔥\nKliknij udział w 
 wydarzeniu na Facebooku i wejdź za darmo do godziny 23:00 !\nWejście: 10
  PLN przed 24:00\, 15 PLN po 24:00.\nStudenci: 5 PLN przed 24:00\, 10 PLN 
 po 24:00.\nSzatnia: 2 PLN za przedmiot.\n\n\n\nOh La La bringing you the b
 iggest party in the City !!!\n\nThis weekend head down to The Pinokio for 
 Ohlala! Ohlala clearly brings you the best Friday night In Szczecin with u
 nbeatable drink deals! This time we'll travel back to the 90's with a nost
 algic tunes mixed by our best DJ's.\n ***Jager bomb 15 PLN\n***Beer 5 PLN\
 n***Vodka +Soft drink 130 PLN🔥\nDeals avaiable until 12.00 pm !!🔉
 🧨\nIt’s going to be a busy one\, so arrive from 10:00 to avoid the qu
 eues & cheaper entry until 12 🙌🏼🎊\nIn the basement:  DJ delivers 
 the very best mix the greates club music.\nDress code: Smart casual. Flats
  welcome for dancing. Strictly NO man sportswear.\nFor VIP bookings and re
 servations hit us on Facebook.\nHit on "Going" button on facebook event an
 d get a free entry until 11.00 pm.\nEntry: 10 PLN before 12pm\, 15 PLN aft
 er.\nStudents:5 PLN before 12pm\, 10 PLN after.\nCloakroom: 2 PLN per item
ATTACH;FMTTYPE=image/jpeg:https://night4u.pl/wp-content/uploads/2019/10/88
 312_image_74393790_2692310987457602_6226650136118820864_o.jpg
CATEGORIES:zachodniopomorskie
LOCATION:Pinokio Szczecin\, ul. Sikorskiego 29\, Szczecin\, 71-072\, Poland
GEO:53.42229;14.53015
X-APPLE-STRUCTURED-LOCATION;VALUE=URI;X-ADDRESS=ul. Sikorskiego 29\, Szczec
 in\, 71-072\, Poland;X-APPLE-RADIUS=100;X-TITLE=Pinokio Szczecin:geo:53.42
 229,14.53015
END:VEVENT
BEGIN:VTIMEZONE
TZID:Europe/Warsaw
X-LIC-LOCATION:Europe/Warsaw
BEGIN:STANDARD
DTSTART:20191027T020000
TZOFFSETFROM:+0200
TZOFFSETTO:+0100
TZNAME:CET
END:STANDARD
END:VTIMEZONE
END:VCALENDAR