BEGIN:VCALENDAR
VERSION:2.0
PRODID:-//wp-events-plugin.com//7.2.3.1//EN
TZID:Europe/Warsaw
X-WR-TIMEZONE:Europe/Warsaw
BEGIN:VEVENT
UID:43103@night4u.pl
DTSTART;TZID=Europe/Warsaw:20201023T200000
DTEND;TZID=Europe/Warsaw:20201023T200000
DTSTAMP:20200815T130227Z
URL:https://night4u.pl/wydarzenia/oki-47playground-lublin-koncert-premiero
 wy/
SUMMARY:OKI „47playground” Lublin Zmiana daty!
DESCRIPTION:Agencja REVOLUME zaprasza na lubelski koncert premierowy pierws
 zego legalnego wydawnictwa OKIego pt. „47playground”.\nKoncert jest cz
 ęścią szalonego 47playground Tour składającego się z 10 koncertów w
  największych polskich miastach.\n\nBILETY:\nI Pula - 35zł\nII Pula - 40
 zł \n\n!Uwaga! Sprzedaż biletów rozpocznie się 17.01 w piątek o godz.
  11:00!\n\nOsoby niepełnoletnie\, które nie ukończyły 18 lat powinny m
 ieć ze sobą pisemną zgodę opiekunów prawnych. Osoby\, które nie uko
 ńczyły 16 lat mogą wejść tylko z opiekunem prawnym lub osobą pisemni
 e upoważnioną. Opiekun również musi posiadać bilet.
ATTACH;FMTTYPE=image/jpeg:https://night4u.pl/wp-content/uploads/2020/08/13
 7873_image_82497810_1269546136722988_4065375708908617728_o.jpg
CATEGORIES:lubelskie
LOCATION:Dom Kultury\, ul. Krakowskie Przedmieście 19\, Lublin\, 20-002\, 
 Poland
GEO:51.24787;22.56342
X-APPLE-STRUCTURED-LOCATION;VALUE=URI;X-ADDRESS=ul. Krakowskie Przedmieści
 e 19\, Lublin\, 20-002\, Poland;X-APPLE-RADIUS=100;X-TITLE=Dom Kultury:geo
 :51.24787,22.56342
END:VEVENT
BEGIN:VTIMEZONE
TZID:Europe/Warsaw
X-LIC-LOCATION:Europe/Warsaw
BEGIN:DAYLIGHT
DTSTART:20200329T030000
TZOFFSETFROM:+0100
TZOFFSETTO:+0200
TZNAME:CEST
END:DAYLIGHT
END:VTIMEZONE
END:VCALENDAR