BEGIN:VCALENDAR
VERSION:2.0
PRODID:-//wp-events-plugin.com//7.2.3.1//EN
TZID:Europe/Warsaw
X-WR-TIMEZONE:Europe/Warsaw
BEGIN:VEVENT
UID:26435@night4u.pl
DTSTART;TZID=Europe/Warsaw:20191024T180000
DTEND;TZID=Europe/Warsaw:20191025T000000
DTSTAMP:20191024T003145Z
URL:https://night4u.pl/wydarzenia/oki-klub30-lublin-24-10-illegal-noise/
SUMMARY:OKI / Klub30 Lublin / 24.10 / illegal noise
DESCRIPTION:illegal noise\nKlub30 Lublin\n24.10 | 18:00\n\n🔥 Żabson 
 💥KONCERT PREMIEROWY💥\n🔥 Guzior\n🔥 Jan - rapowanie\n🔥 SŁOŃ
  WSRH D666a \n🔥 Solar\n🔥 Oki\n\n🕖CZASÓWKA🕖\n18:00 - DRZWI - G
 REJTU\n19:15 - Oki\n20:00 - SŁOŃ WSRH D666a\n21:15 - Solar + LIVE BAND\n
 22:15 - Jan - rapowanie\n23:25 - Żabson\n\nSPRZEDAŻ⤵️\nTicketos ➡ 
 http://bit.ly/illegal_noise_lublin\nebilet.pl | Biletomat.pl - bilety onli
 ne | Eventim.pl\nMediaMarkt Polska | empik\n\nBILETY🎟\nPULA 0 - 59 PLN 
 - SOLD OUT\nPULA 1 - 69 PLN\nPULA 2 - 79 PLN\nPULA 3 - 89 PLN\nBILETY VIP 
 - XXX\n\nOGRANICZENIA WIEKOWE⚠️\n✅Poniżej 16 roku życia wymagana j
 est obecność pełnoletniego opiekuna. \n✅ Między 16\, a 18 rokiem ży
 cia wymagana jest zgoda podpisana przez pełnoprawnego opiekuna (znajdzies
 z ją poniżej).\n\nFB: http://bit.ly/illegal_noise\nGRUPA: http://bit.ly/
 illegal_squad\nINSTA: http://bit.ly/illegal_instagram\nZGODA: http://bit.l
 y/zgoda_illegal_noise\n\n__________________________________\npowered by\nW
 iniaryBookings\nPatrz Co Jest Grane\nTicketos
ATTACH;FMTTYPE=image/jpeg:https://night4u.pl/wp-content/uploads/2019/10/61
 754_image_72752933_403514440313611_3613636490438901760_o.jpg
CATEGORIES:lubelskie
LOCATION:Klub30 Lublin\, Lublin\, Poland
GEO:51.249038;22.552872
X-APPLE-STRUCTURED-LOCATION;VALUE=URI;X-ADDRESS=Lublin\, Poland;X-APPLE-RAD
 IUS=100;X-TITLE=Klub30 Lublin:geo:51.249038,22.552872
END:VEVENT
BEGIN:VTIMEZONE
TZID:Europe/Warsaw
X-LIC-LOCATION:Europe/Warsaw
BEGIN:DAYLIGHT
DTSTART:20190331T030000
TZOFFSETFROM:+0100
TZOFFSETTO:+0200
TZNAME:CEST
END:DAYLIGHT
END:VTIMEZONE
END:VCALENDAR