BEGIN:VCALENDAR
VERSION:2.0
PRODID:-//wp-events-plugin.com//7.2.3.1//EN
TZID:Europe/Warsaw
X-WR-TIMEZONE:Europe/Warsaw
BEGIN:VEVENT
UID:46238@night4u.pl
DTSTART;TZID=Europe/Warsaw:20200225T200000
DTEND;TZID=Europe/Warsaw:20200225T230000
DTSTAMP:20200225T124130Z
URL:https://night4u.pl/wydarzenia/old-jazz-band-w-regeneracji-2/
SUMMARY:Old Jazz Band w Regeneracji!
DESCRIPTION:We wtorek 25.02\, zapraszamy na koncert niezastąpionych muzyk
 ów formacji Old Jazz Band! 🎺🎺\nWieczór upłynie nam w klimacie jaz
 zu i swingu. \nNie może Was zabraknąć :) ! \n\nZapraszamy! \ngodz. 20.0
 0\, wstęp wolny\n\nZachęcamy do rezerwacji stolików pod adresem: rezerw
 acjaregeneracja@gmail.com\n\nFoto: Feko Rouppert
ATTACH;FMTTYPE=image/jpeg:https://night4u.pl/wp-content/uploads/2020/02/15
 1683_image_83550773_3041284299223477_9087040781218217984_o.jpg
CATEGORIES:mazowieckie
LOCATION:Regeneracja\, Puławska 61\, Mokotów\, 02-595\, Poland
GEO:52.203102;21.023553
X-APPLE-STRUCTURED-LOCATION;VALUE=URI;X-ADDRESS=Puławska 61\, Mokotów\, 0
 2-595\, Poland;X-APPLE-RADIUS=100;X-TITLE=Regeneracja:geo:52.203102,21.023
 553
END:VEVENT
BEGIN:VTIMEZONE
TZID:Europe/Warsaw
X-LIC-LOCATION:Europe/Warsaw
BEGIN:STANDARD
DTSTART:20191027T020000
TZOFFSETFROM:+0200
TZOFFSETTO:+0100
TZNAME:CET
END:STANDARD
END:VTIMEZONE
END:VCALENDAR